Workbook
Name SegmentaçãodeDados_DATA: #N/A

Sheet BD ULTIMOS 3 MESES
B1: GERENTE | C1: POSITIVAÇÃO | D1: QTD VENDIDO | E1: VENDA | G1: GERENTE | H1: COD SV | I1: POSITIVAÇÃO | J1: QTD VENDIDO | K1: VENDA | M1: COD SV | N1: CODRCA | O1: POSITIVAÇÃO | P1: QTD VENDIDO | Q1: VENDA | X1: VENDA | Z1: DATA (Mês)
B2: GGV DEC CLAUDIA | C2: 4229 | D2: 131136 | E2: 3298651.6 | G2: GGV DEC CLAUDIA | H2: 104 | I2: 448 | J2: 14019 | K2: 485915.96 | M2: 104 | N2: 3126 | O2: 21 | P2: 183 | Q2: 12037.8 | X2: CODCLIPRINC | Y2: COD SV | Z2: jul | AA2: ago | AB2: set
B3: GGV DEC FABRICIO | C3: 2184 | D3: 68905 | E3: 2099281.8 | G3: GGV DEC CLAUDIA | H3: 150 | I3: 602 | J3: 9990 | K3: 309358.72 | M3: 104 | N3: 4113 | O3: 31 | P3: 398 | Q3: 13513.3 | X3: 15 | Y3: 555 | Z3: 0 | AA3: 173.25 | AB3: 203.04
B4: Total Geral | C4: 6413 | D4: 200041 | E4: 5397933.4 | G4: GGV DEC CLAUDIA | H4: 220 | I4: 238 | J4: 5409 | K4: 190740.97 | M4: 104 | N4: 4127 | O4: 15 | P4: 163 | Q4: 6895.47 | X4: 42 | Y4: 150 | Z4: 0 | AA4: 216.39 | AB4: 0
G5: GGV DEC CLAUDIA | H5: 250 | I5: 406 | J5: 12324 | K5: 330180.59 | M5: 104 | N5: 4137 | O5: 8 | P5: 195 | Q5: 6722.8 | X5: 172 | Y5: 150 | Z5: 186.76 | AA5: 0 | AB5: 0
G6: GGV DEC CLAUDIA | H6: 260 | I6: 363 | J6: 4777 | K6: 165743.39 | M6: 104 | N6: 4141 | O6: 17 | P6: 242 | Q6: 4846.96 | X6: 310 | Y6: 280 | Z6: 0 | AA6: 14.11 | AB6: 0
G7: GGV DEC CLAUDIA | H7: 270 | I7: 88 | J7: 53009 | K7: 850270.21 | M7: 104 | N7: 4145 | O7: 30 | P7: 3616 | Q7: 47912.51 | X7: 351 | Y7: 290 | Z7: 0 | AA7: 71.76 | AB7: 0
G8: GGV DEC CLAUDIA | H8: 300 | I8: 124 | J8: 2267 | K8: 60884.95 | M8: 104 | N8: 4146 | O8: 10 | P8: 196 | Q8: 4677.55 | X8: 354 | Y8: 777 | Z8: 0 | AA8: 0 | AB8: 37.52
G9: GGV DEC CLAUDIA | H9: 320 | I9: 386 | J9: 4622 | K9: 116584.3 | M9: 104 | N9: 4148 | O9: 10 | P9: 93 | Q9: 2613.17 | X9: 366 | Y9: 250 | Z9: 2776.36 | AA9: 1569.1 | AB9: 364.32
G10: GGV DEC CLAUDIA | H10: 340 | I10: 488 | J10: 4211 | K10: 157808.25 | M10: 104 | N10: 4174 | O10: 7 | P10: 26 | Q10: 800.22 | X10: 382 | Y10: 400 | Z10: 2714.44 | AA10: 1209.09 | AB10: 1708.44
G11: GGV DEC CLAUDIA | H11: 360 | I11: 156 | J11: 3576 | K11: 97579.09 | M11: 104 | N11: 4175 | O11: 7 | P11: 176 | Q11: 4020.01 | X11: 435 | Y11: 104 | Z11: 2191.49 | AA11: 3700.23 | AB11: 3575.07
G12: GGV DEC CLAUDIA | H12: 400 | I12: 304 | J12: 4333 | K12: 84942.82 | M12: 104 | N12: 4176 | O12: 18 | P12: 73 | Q12: 3580.92 | X12: 735 | Y12: 150 | Z12: 0 | AA12: 0 | AB12: 1020.84
G13: GGV DEC CLAUDIA | H13: 450 | I13: 256 | J13: 3035 | K13: 97499.34 | M13: 104 | N13: 4177 | O13: 6 | P13: 163 | Q13: 3203.93 | X13: 840 | Y13: 320 | Z13: 0 | AA13: 0 | AB13: 66.2
G14: GGV DEC CLAUDIA | H14: 4980 | I14: 371 | J14: 9564 | K14: 351142.98 | M14: 104 | N14: 4178 | O14: 14 | P14: 296 | Q14: 8898.48 | X14: 898 | Y14: 320 | Z14: 135.66 | AA14: 0 | AB14: 138.73
G15: GGV DEC FABRICIO | H15: 180 | I15: 398 | J15: 15991 | K15: 347859.51 | M15: 104 | N15: 4314 | O15: 22 | P15: 624 | Q15: 71637.68 | X15: 908 | Y15: 650 | Z15: 0 | AA15: 0 | AB15: 369.72
G16: GGV DEC FABRICIO | H16: 280 | I16: 258 | J16: 3439 | K16: 93834.77 | M16: 104 | N16: 4316 | O16: 17 | P16: 697 | Q16: 11781.88 | X16: 972 | Y16: 320 | Z16: 48.71 | AA16: 97.33 | AB16: 97.68
... G22: GGV DEC FABRICIO | H22: 800 | I22: 128 | J22: 7754 | K22: 143532.16 | M22: 104 | N22: 4341 | O22: 13 | P22: 71 | Q22: 2583.65 | X22: 1545 | Y22: 320 | Z22: 163.51 | AA22: 140.9 | AB22: 178.8
G23: Total Geral | I23: 6413 | J23: 200041 | K23: 5397933.4 | M23: 104 | N23: 4343 | O23: 4 | P23: 4485 | Q23: 204178.86 | X23: 1621 | Y23: 4980 | Z23: 0 | AA23: 39.11 | AB23: 0
M24: 104 | N24: 4348 | O24: 25 | P24: 181 | Q24: 7766.29 | X24: 2074 | Y24: 555 | Z24: 80.05 | AA24: 0 | AB24: 58.32
M25: 104 | N25: 4349 | O25: 27 | P25: 214 | Q25: 10390.4 | X25: 2138 | Y25: 400 | Z25: 0 | AA25: 151.2 | AB25: 0
M26: 104 | N26: 4350 | O26: 10 | P26: 109 | Q26: 4714.6 | X26: 2182 | Y26: 290 | Z26: 0 | AA26: 879.36 | AB26: 0
M27: 104 | N27: 4351 | O27: 10 | P27: 53 | Q27: 2085.44 | X27: 2216 | Y27: 777 | Z27: 577.5 | AA27: 0 | AB27: 682.32
M28: 104 | N28: 4352 | O28: 18 | P28: 457 | Q28: 12650.08 | X28: 2385 | Y28: 4980 | Z28: 36.76 | AA28: 83.12 | AB28: 0
M29: 104 | N29: 4353 | O29: 28 | P29: 568 | Q29: 15661.17 | X29: 2432 | Y29: 104 | Z29: 162.96 | AA29: 0 | AB29: 0
M30: 150 | N30: 1500 | O30: 1 | P30: 2 | Q30: 79.51 | X30: 2446 | Y30: 150 | Z30: 295.14 | AA30: 258.65 | AB30: 708.57
M31: 150 | N31: 1528 | O31: 17 | P31: 386 | Q31: 10569.81 | X31: 2497 | Y31: 250 | Z31: 25.75 | AA31: 25.73 | AB31: 0
M32: 150 | N32: 1563 | O32: 30 | P32: 276 | Q32: 10142.13 | X32: 2770 | Y32: 777 | Z32: 0 | AA32: 236.88 | AB32: 0
M33: 150 | N33: 1565 | O33: 22 | P33: 311 | Q33: 14421.08 | X33: 2867 | Y33: 104 | Z33: 379.59 | AA33: 792.61 | AB33: 0
M34: 150 | N34: 1576 | O34: 30 | P34: 663 | Q34: 19245.46 | X34: 2915 | Y34: 150 | Z34: 0 | AA34: 0 | AB34: 49.06
M35: 150 | N35: 1586 | O35: 25 | P35: 2245 | Q35: 31314.85 | X35: 2932 | Y35: 777 | Z35: 1081.86 | AA35: 230.8 | AB35: 0
... M464: 4980 | N464: 5055 | O464: 5 | P464: 28 | Q464: 671.71 | X464: 36438 | Y464: 220 | Z464: 189.58 | AA464: 0 | AB464: 0
M465: Total Geral | O465: 6482 | P465: 228374 | Q465: 6595951.1 | X465: 36490 | Y465: 4980 | Z465: 24.3 | AA465: 0 | AB465: 0
X466: 36493 | Y466: 4980 | Z466: 439.2 | AA466: 0 | AB466: 0
X467: 36494 | Y467: 360 | Z467: 52.07 | AA467: 0 | AB467: 0
X468: 36519 | Y468: 104 | Z468: 0 | AA468: 36.75 | AB468: 0
X469: 36523 | Y469: 777 | Z469: 0 | AA469: 40.65 | AB469: 96.7
X470: 36530 | Y470: 270 | Z470: 116240.16 | AA470: 173282.07 | AB470: 328373.07
X471: 36530 | Y471: 800 | Z471: 208.05 | AA471: 1435.74 | AB471: 0
X472: 36551 | Y472: 220 | Z472: 844.6 | AA472: 316.92 | AB472: 1284.9
X473: 36561 | Y473: 104 | Z473: 0 | AA473: 46.63 | AB473: 0
...

Sheet BD PRODUTO
G1: DATA | H1: (Vários itens)
C2: mês atual | H2: MÊS ANTERIOR
B3: CODPROD | C3: DESCRIÇÃO | D3: QTD VENDIDO | E3: VENDA | G3: CATEGORIA | H3: QTD VENDIDO | I3: VENDA
B4: 6235 | C4: APARELHO BIC SENSITIVE SHAVER | D4: 712 | E4: 18030.57 | G4: APARELHOS | H4: 69717 | I4: 1425437.7
B5: 6242 | C5: APARELHO BIC COMFORT TWIN PELE NORMAL | D5: 227 | E5: 8648.81 | G5: ISQUEIROS | H5: 23045 | I5: 1018034.3
B6: 97118 | C6: APARELHO BIC COMFORT TWIN PELE SENSIVEL | D6: 419 | E6: 17232 | G6: (vazio) | H6: 1120 | I6: 28644.73
B7: 99567 | C7: APARELHO BIC COMFORT 3 PELE NORMAL | D7: 2668 | E7: 22700.77 | G7: Total Geral | H7: 93882 | I7: 2472116.7
B8: 99568 | C8: APARELHO BIC COMFORT 3 PELE NORMAL | D8: 1974 | E8: 87767.46
B9: 99569 | C9: APARELHO BIC COMFORT 3 PELE SENSIVEL | D9: 2962 | E9: 26945.04
B10: 99570 | C10: APARELHO BIC COMFORT 3 PELE SENSIVEL | D10: 2137 | E10: 94993.64
B11: 106446 | C11: ISQUEIRO BIC MAXI | D11: 637 | E11: 30270.64
B12: 106447 | C12: ISQUEIRO BIC MINI | D12: 762 | E12: 27570.05
B13: 106709 | C13: APARELHO BIC COMFORT 3 BLACK NIGHT | D13: 3153 | E13: 27991.68
B14: 111649 | C14: APARELHO BIC SENSITIVE L7P5 | D14: 2293 | E14: 12768.46
B15: 111651 | C15: APARELHO BIC SENSITIVE L15P12 | D15: 507 | E15: 5992.1
B16: 114400 | C16: APARELHO BIC SOLEIL ROSA / ROXO | D16: 2681 | E16: 26327.45
B17: 114401 | C17: APARELHO BIC SOLEIL | D17: 1263 | E17: 59963.33
B18: 114402 | C18: APARELHO BIC ACQUA 3 | D18: 762 | E18: 38691.73
B19: 114403 | C19: APARELHO BIC INTENSITY 3 | D19: 540 | E19: 27350.76
... B46: 133518 | C46: ISQUEIRO BIC MAX PAISAGENS | D46: 7 | E46: 335.59
B47: Total Geral | D47: 45631 | E47: 977920.27

Sheet BD
M1: SELLOUT ONTEM | Y1: DATA | Z1: 26/10/2026 | AF1: CODCLIPRINC | AG1: COD SV | AH1: VENDA
B2: GERENTE | C2: POSITIVAÇÃO | D2: QTD VENDIDO | E2: VENDA | G2: GERENTE | H2: COD SV | I2: POSITIVAÇÃO | J2: QTD VENDIDO | K2: VENDA | M2: DATA | N2: 26/10/2026 | S2: COD SV | T2: COD RCA | U2: POSITIVAÇÃO | V2: QTD VENDIDO | W2: VENDA | Y2: SELLOUT ONTEM | AF2: 15 | AG2: 555 | AH2: 178.65
B3: GGV DEC CLAUDIA | C3: 1897 | D3: 35570 | E3: 751057.8 | G3: GGV DEC CLAUDIA | H3: 104 | I3: 187 | J3: 2407 | K3: 54293.7 | S3: 104 | T3: 2201 | U3: 1 | V3: 1 | W3: 191.35 | Y3: COD SV | Z3: COD RCA | AA3: POSITIVAÇÃO | AB3: QTD VENDIDO | AC3: VENDA | AF3: 79 | AG3: 150 | AH3: 690.85
B4: GGV DEC FABRICIO | C4: 824 | D4: 13559 | E4: 289267.29 | G4: GGV DEC CLAUDIA | H4: 150 | I4: 310 | J4: 2445 | K4: 78523.77 | M4: GERENTE | N4: COD SV | O4: POSITIVAÇÃO | P4: QTD VENDIDO | Q4: VENDA | S4: 104 | T4: 3126 | U4: 10 | V4: 38 | W4: 1625.55 | Y4: 150 | Z4: 1576 | AA4: 2 | AB4: 5 | AC4: 180.59 | AF4: 351 | AG4: 290 | AH4: 130.36
B5: GRV DEC S/COMISSAO | C5: 21 | D5: 186 | E5: 4501.46 | G5: GGV DEC CLAUDIA | H5: 220 | I5: 101 | J5: 2001 | K5: 47689.66 | M5: GGV DEC CLAUDIA | N5: 150 | O5: 33 | P5: 152 | Q5: 5746.92 | S5: 104 | T5: 4113 | U5: 8 | V5: 44 | W5: 1209.8 | Y5: 150 | Z5: 1677 | AA5: 0 | AB5: 0 | AC5: 0 | AF5: 382 | AG5: 400 | AH5: 200.18
B6: Total Geral | C6: 2742 | D6: 49315 | E6: 1044826.6 | G6: GGV DEC CLAUDIA | H6: 250 | I6: 180 | J6: 3033 | K6: 67406.79 | M6: GGV DEC CLAUDIA | N6: 220 | O6: 1 | P6: 1 | Q6: 24.9 | S6: 104 | T6: 4127 | U6: 6 | V6: 14 | W6: 637.8 | Y6: 220 | Z6: 2310 | AA6: 0 | AB6: 0 | AC6: 0 | AF6: 435 | AG6: 104 | AH6: 2869.22
G7: GGV DEC CLAUDIA | H7: 260 | I7: 115 | J7: 1239 | K7: 42971.97 | M7: GGV DEC CLAUDIA | N7: 250 | O7: 13 | P7: 463 | Q7: 7287.06 | S7: 104 | T7: 4137 | U7: 1 | V7: 74 | W7: 1298.35 | Y7: 250 | Z7: 5124 | AA7: 0 | AB7: 0 | AC7: 0 | AF7: 774 | AG7: 777 | AH7: 45.5
G8: GGV DEC CLAUDIA | H8: 270 | I8: 54 | J8: 14129 | K8: 213922.27 | M8: GGV DEC CLAUDIA | N8: 260 | O8: 10 | P8: 55 | Q8: 1635.08 | S8: 104 | T8: 4141 | U8: 7 | V8: 17 | W8: 1791.8 | Y8: 260 | Z8: 2686 | AA8: 0 | AB8: 0 | AC8: 0 | AF8: 898 | AG8: 320 | AH8: 45.22
G9: GGV DEC CLAUDIA | H9: 300 | I9: 43 | J9: 1187 | K9: 22322.87 | M9: GGV DEC CLAUDIA | N9: 270 | O9: 10 | P9: 339 | Q9: 3997.15 | S9: 104 | T9: 4145 | U9: 30 | V9: 903 | W9: 13986.67 | Y9: 260 | Z9: 5119 | AA9: 0 | AB9: 0 | AC9: 0 | AF9: 972 | AG9: 320 | AH9: 87.65
G10: GGV DEC CLAUDIA | H10: 320 | I10: 221 | J10: 1122 | K10: 28059.07 | M10: GGV DEC CLAUDIA | N10: 340 | O10: 10 | P10: 23 | Q10: 1263.42 | S10: 104 | T10: 4146 | U10: 2 | V10: 4 | W10: 141.84 | Y10: 270 | Z10: 2721 | AA10: 0 | AB10: 0 | AC10: 0 | AF10: 1275 | AG10: 250 | AH10: 42.98
G11: GGV DEC CLAUDIA | H11: 340 | I11: 206 | J11: 1456 | K11: 49237.5 | M11: GGV DEC CLAUDIA | N11: 450 | O11: 4 | P11: 15 | Q11: 756.84 | S11: 104 | T11: 4174 | U11: 1 | V11: 9 | W11: 386.82 | Y11: 270 | Z11: 2794 | AA11: 0 | AB11: 0 | AC11: 0 | AF11: 1343 | AG11: 290 | AH11: 32.52
G12: GGV DEC CLAUDIA | H12: 360 | I12: 67 | J12: 686 | K12: 21792.3 | M12: GGV DEC FABRICIO | N12: 290 | O12: 6 | P12: 67 | Q12: 1842.51 | S12: 104 | T12: 4175 | U12: 5 | V12: 91 | W12: 2069.89 | Y12: 290 | Z12: 3020 | AA12: 0 | AB12: 0 | AC12: 0 | AF12: 2074 | AG12: 555 | AH12: 84.39
G13: GGV DEC CLAUDIA | H13: 400 | I13: 146 | J13: 1510 | K13: 28565.37 | M13: Total Geral | O13: 14 | P13: 285 | Q13: 6024.43 | S13: 104 | T13: 4176 | U13: 9 | V13: 22 | W13: 964.49 | Y13: 340 | Z13: 3413 | AA13: 1 | AB13: 1 | AC13: 10.93 | AF13: 2446 | AG13: 150 | AH13: 491.91
G14: GGV DEC CLAUDIA | H14: 450 | I14: 102 | J14: 936 | K14: 29008.18 | S14: 104 | T14: 4177 | U14: 1 | V14: 20 | W14: 269.29 | Y14: 450 | Z14: 302 | AA14: 0 | AB14: 0 | AC14: 0 | AF14: 2497 | AG14: 250 | AH14: 25.73
G15: GGV DEC CLAUDIA | H15: 4980 | I15: 166 | J15: 3419 | K15: 67264.35 | S15: 104 | T15: 4178 | U15: 5 | V15: 26 | W15: 731.46 | Y15: 450 | Z15: 4544 | AA15: 0 | AB15: 0 | AC15: 0 | AF15: 3256 | AG15: 220 | AH15: 11243.18
G16: GGV DEC FABRICIO | H16: 180 | I16: 150 | J16: 5366 | K16: 96363.1 | S16: 104 | T16: 4314 | U16: 5 | V16: 21 | W16: 713.41 | Y16: Total Geral | AA16: 14 | AB16: 285 | AC16: 6024.43 | AF16: 3351 | AG16: 250 | AH16: 4054.08
G17: GGV DEC FABRICIO | H17: 280 | I17: 128 | J17: 786 | K17: 16230.66 | S17: 104 | T17: 4316 | U17: 8 | V17: 161 | W17: 3187.04 | AF17: 3409 | AG17: 360 | AH17: 13.15
G18: GGV DEC FABRICIO | H18: 290 | I18: 126 | J18: 1323 | K18: 48703.67 | S18: 104 | T18: 4318 | U18: 1 | V18: 14 | W18: 204.78 | AF18: 3619 | AG18: 104 | AH18: 164.06
G19: GGV DEC FABRICIO | H19: 370 | I19: 104 | J19: 2097 | K19: 44311.52 | S19: 104 | T19: 4333 | U19: 3 | V19: 5 | W19: 225.19 | AF19: 3714 | AG19: 360 | AH19: 519.25
G20: GGV DEC FABRICIO | H20: 555 | I20: 85 | J20: 518 | K20: 15316.83 | S20: 104 | T20: 4334 | U20: 1 | V20: 28 | W20: 358.96 | AF20: 3769 | AG20: 450 | AH20: 941.53
G21: GGV DEC FABRICIO | H21: 650 | I21: 61 | J21: 349 | K21: 7382.32 | S21: 104 | T21: 4339 | U21: 9 | V21: 51 | W21: 2015.51 | AF21: 3823 | AG21: 150 | AH21: 180.88
G22: GGV DEC FABRICIO | H22: 777 | I22: 91 | J22: 740 | K22: 22846.04 | S22: 104 | T22: 4341 | U22: 10 | V22: 61 | W22: 1414.49 | AF22: 3893 | AG22: 150 | AH22: 228.31
G23: GGV DEC FABRICIO | H23: 800 | I23: 79 | J23: 2380 | K23: 38113.15 | S23: 104 | T23: 4343 | U23: 3 | V23: 77 | W23: 3445.58 | AF23: 3922 | AG23: 300 | AH23: 265.1
G24: GRV DEC S/COMISSAO | H24: 500 | I24: 21 | J24: 186 | K24: 4501.46 | S24: 104 | T24: 4348 | U24: 7 | V24: 20 | W24: 1115.61 | AF24: 3935 | AG24: 250 | AH24: 45.9
G25: Total Geral | I25: 2689 | J25: 45631 | K25: 977920.27 | S25: 104 | T25: 4349 | U25: 17 | V25: 51 | W25: 1669.39 | AF25: 3991 | AG25: 360 | AH25: 1865.92
S26: 104 | T26: 4350 | U26: 5 | V26: 30 | W26: 1266.14 | AF26: 4002 | AG26: 104 | AH26: 269.29
S27: 104 | T27: 4351 | U27: 7 | V27: 34 | W27: 781.03 | AF27: 4074 | AG27: 340 | AH27: 91.54
S28: 104 | T28: 4352 | U28: 11 | V28: 139 | W28: 4539.38 | AF28: 4303 | AG28: 250 | AH28: 192.88
S29: 104 | T29: 4353 | U29: 12 | V29: 173 | W29: 3650.54 | AF29: 4314 | AG29: 340 | AH29: 188.6
S30: 150 | T30: 1528 | U30: 10 | V30: 155 | W30: 5061.56 | AF30: 4340 | AG30: 104 | AH30: 88.34
S31: 150 | T31: 1563 | U31: 17 | V31: 68 | W31: 2954.43 | AF31: 4341 | AG31: 150 | AH31: 187.6
S32: 150 | T32: 1565 | U32: 14 | V32: 118 | W32: 5300.67 | AF32: 4464 | AG32: 104 | AH32: 87.58
S33: 150 | T33: 1576 | U33: 14 | V33: 149 | W33: 4003.55 | AF33: 4532 | AG33: 300 | AH33: 128.65
S34: 150 | T34: 1586 | U34: 9 | V34: 326 | W34: 5778.17 | AF34: 4599 | AG34: 340 | AH34: 48.04
S35: 150 | T35: 1597 | U35: 11 | V35: 76 | W35: 3408.27 | AF35: 4702 | AG35: 104 | AH35: 216.86
S36: 150 | T36: 1598 | U36: 9 | V36: 363 | W36: 6490.93 | AF36: 4784 | AG36: 104 | AH36: 1298.35
S37: 150 | T37: 1645 | U37: 8 | V37: 33 | W37: 1573.05 | AF37: 4934 | AG37: 150 | AH37: 170.76
... S422: 4980 | T422: 5055 | U422: 4 | V422: 45 | W422: 1146.55 | AF422: 50689 | AG422: 555 | AH422: 29.1
S423: Total Geral | U423: 2689 | V423: 45631 | W423: 977920.27 | AF423: 50723 | AG423: 300 | AH423: 346.7
AF424: 50732 | AG424: 555 | AH424: 89.67
...

Sheet POR GGV E SV
B1: PAINEL DE ACOMPANHAMENTO BIC - GERENTE E SUPERVISOR- OUTUBRO/2026
B2: DIAS ÚTEIS | C2: DIAS TRAB.
B3: 21 | C3: 18
C4: =B3-C3 -> 3 | E4: =SUBTOTAL(109,E6:E8) -> 2742 | F4: =SUBTOTAL(109,F6:F8) -> 49315 | G4: =SUBTOTAL(109,G6:G8) -> 2000000 | H4: =SUBTOTAL(109,H6:H8) -> 1044826.6 | I4: =H4/G4 -> 0.52241328 | J4: =G4-H4 -> 955173.45 | K4: =SUBTOTAL(109,Tabela2[META DIA]) -> 318391.15 | L4: =SUBTOTAL(109,Tabela2[VENDA ONTEM]) -> 44503.66 | M4: =SUBTOTAL(109,Tabela2[TENDÊNCIA]) -> 1218964.3 | N4: =IFERROR(M4/G4,0) -> 0.60948215
D5: GGV | E5: POSITIVAÇÃO | F5: QTD VENDIDA | G5: META | H5: VENDA | I5: % REALIZADO | J5: GAP | K5: META DIA | L5: VENDA ONTEM | M5: TENDÊNCIA | N5: % TEND
D6: CLAUDIA | E6: =SUMIFS(Tabela1[POSITIVAÇÃO],Tabela1[GGV],D6) -> 1897 | F6: =SUMIFS(Tabela1[QTD VENDIDA],Tabela1[GGV],Tabela2[[#This Row],[GGV]]) -> 35570 | G6: =SUMIFS($G$13:$G$25,$B$13:$B$25,$D$6) -> 1222000 | H6: =SUMIFS($H$13:$H$25,$B$13:$B$25,$D$6) -> 751057.8 | I6: =IFERROR($H$6/$G$6,0) -> 0.61461358 | J6: =$G$6-$H$6 -> 470942.2 | K6: =IFERROR(Tabela2[[#This Row],[GAP ]]/$C$4,0) -> 156980.73 | L6: =SUMIFS(L12:L24,B12:B24,D6) -> 36697.95 | M6: =SUMIFS(Tabela1[TENDÊNCIA],Tabela1[GGV],Tabela2[[#This Row],[GGV]]) -> 876234.1 | N6: =IFERROR(Tabela2[[#This Row],[TENDÊNCIA]]/Tabela2[[#This Row],[META]],0) -> 0.71704918
D7: FABRICIO | E7: =SUMIFS(Tabela3[POSITIVAÇÃO],Tabela3[GGV],D7) -> 824 | F7: =SUMIFS(Tabela3[QTD VENDIDA],Tabela3[GGV],Tabela2[[#This Row],[GGV]]) -> 13559 | G7: =SUMIFS($G$30:$G$37,$B$30:$B$37,$D$7) -> 778000 | H7: =SUMIFS($H$30:$H$37,$B$30:$B$37,$D$7) -> 289267.29 | I7: =IFERROR($H$7/$G$7,0) -> 0.37180886 | J7: =$G$7-$H$7 -> 488732.71 | K7: =IFERROR(Tabela2[[#This Row],[GAP ]]/$C$4,0) -> 162910.9 | L7: =SUMIFS(L31:L38,B31:B38,D7) -> 7744.13 | M7: =SUMIFS(Tabela3[TENDÊNCIA],Tabela3[GGV],Tabela2[[#This Row],[GGV]]) -> 337478.51 | N7: =IFERROR(Tabela2[[#This Row],[TENDÊNCIA]]/Tabela2[[#This Row],[META]],0) -> 0.433777
D8: GRV DEC S/COMISSAO | E8: =VLOOKUP(Tabela2[[#This Row],[GGV]],BD!B:C,2,0) -> 21 | F8: =VLOOKUP(Tabela2[[#This Row],[GGV]],BD!B:D,3,0) -> 186 | H8: =VLOOKUP(Tabela2[[#This Row],[GGV]],BD!B:E,4,0) -> 4501.46 | J8: 0 | K8: =IFERROR(Tabela2[[#This Row],[GAP ]]/C4,0) -> 0 | L8: =IFERROR(VLOOKUP(Tabela2[[#This Row],[GGV]],BD!M:Q,5,0),0) -> 61.58 | M8: =Tabela2[[#This Row],[VENDA]]/C3*B3 -> 5251.7033 | N8: =IFERROR(Tabela2[[#This Row],[TENDÊNCIA]]/Tabela2[[#This Row],[META]],0) -> 0
B10: TIME CLÁUDIA
E11: =SUBTOTAL(109,E13:E25) -> 1864 | F11: =SUBTOTAL(109,F13:F25) -> 32340 | G11: =SUBTOTAL(109,G13:G25) -> 1222000 | H11: =SUBTOTAL(109,H13:H25) -> 703333.11 | I11: =H11/G11 -> 0.57555901 | J11: =G11-H11 -> 518666.89 | K11: =SUBTOTAL(109,Tabela1[META DIA]) -> 129666.72 | L11: =SUBTOTAL(109,Tabela1[VENDA ONTEM]) -> 5571.04 | M11: =SUBTOTAL(109,Tabela1[TENDÊNCIA]) -> 868823.25 | N11: =IFERROR(M11/G11,0) -> 0.71098466
B12: GGV | C12: COD SV | D12: NOME SV | E12: POSITIVAÇÃO | F12: QTD VENDIDA | G12: META | H12: VENDA | I12: % REALIZADO | J12: GAP | K12: META DIA | L12: VENDA ONTEM | M12: TENDÊNCIA | N12: % TEND
B13: CLAUDIA | C13: 300 | D13: ELISSAMA | E13: =IFERROR(VLOOKUP(C13,BD!H:I,2,0),0) -> 43 | F13: =IFERROR(VLOOKUP(C13,BD!H:J,3,0),0) -> 1187 | G13: 23000 | H13: =IFERROR(VLOOKUP(C13,BD!H:K,4,0),0) -> 22322.87 | I13: =IFERROR(H13/G13,0) -> 0.97055957 | J13: =Tabela1[[#This Row],[META]]-Tabela1[[#This Row],[VENDA]] -> 677.13 | K13: =IFERROR(Tabela1[[#This Row],[GAP ]]/$C$4,0) -> 225.71 | L13: =IFERROR(VLOOKUP(Tabela1[[#This Row],[COD SV]],BD!N:Q,4,0),0) -> 6653.04 | M13: =Tabela1[[#This Row],[VENDA]]/$C$3*$B$3 -> 26043.348 | N13: =IFERROR(Tabela1[[#This Row],[TENDÊNCIA]]/Tabela1[[#This Row],[META]],0) -> 1.1323195
B14: CLAUDIA | C14: 400 | D14: FABIO | E14: =IFERROR(VLOOKUP(C14,BD!H:I,2,0),0) -> 146 | F14: =IFERROR(VLOOKUP(C14,BD!H:J,3,0),0) -> 1510 | G14: 31000 | H14: =IFERROR(VLOOKUP(C14,BD!H:K,4,0),0) -> 28565.37 | I14: =IFERROR(H14/G14,0) -> 0.92146355 | J14: =Tabela1[[#This Row],[META]]-Tabela1[[#This Row],[VENDA]] -> 2434.63 | K14: =IFERROR(Tabela1[[#This Row],[GAP ]]/$C$4,0) -> 811.54333 | L14: =IFERROR(VLOOKUP(Tabela1[[#This Row],[COD SV]],BD!N:Q,4,0),0) -> 2575.7 | M14: =Tabela1[[#This Row],[VENDA]]/$C$3*$B$3 -> 33326.265 | N14: =IFERROR(Tabela1[[#This Row],[TENDÊNCIA]]/Tabela1[[#This Row],[META]],0) -> 1.0750408
B15: CLAUDIA | C15: 340 | D15: REJANE | E15: =IFERROR(VLOOKUP(C15,BD!H:I,2,0),0) -> 206 | F15: =IFERROR(VLOOKUP(C15,BD!H:J,3,0),0) -> 1456 | G15: 58000 | H15: =IFERROR(VLOOKUP(C15,BD!H:K,4,0),0) -> 49237.5 | I15: =IFERROR(H15/G15,0) -> 0.84892241 | J15: =Tabela1[[#This Row],[META]]-Tabela1[[#This Row],[VENDA]] -> 8762.5 | K15: =IFERROR(Tabela1[[#This Row],[GAP ]]/$C$4,0) -> 2920.8333 | L15: =IFERROR(VLOOKUP(Tabela1[[#This Row],[COD SV]],BD!N:Q,4,0),0) -> 1263.42 | M15: =Tabela1[[#This Row],[VENDA]]/$C$3*$B$3 -> 57443.75 | N15: =IFERROR(Tabela1[[#This Row],[TENDÊNCIA]]/Tabela1[[#This Row],[META]],0) -> 0.99040948
B16: CLAUDIA | C16: 450 | D16: YURI | E16: =IFERROR(VLOOKUP(C16,BD!H:I,2,0),0) -> 102 | F16: =IFERROR(VLOOKUP(C16,BD!H:J,3,0),0) -> 936 | G16: 36000 | H16: =IFERROR(VLOOKUP(C16,BD!H:K,4,0),0) -> 29008.18 | I16: =IFERROR(H16/G16,0) -> 0.80578278 | J16: =Tabela1[[#This Row],[META]]-Tabela1[[#This Row],[VENDA]] -> 6991.82 | K16: =IFERROR(Tabela1[[#This Row],[GAP ]]/$C$4,0) -> 2330.6067 | L16: =IFERROR(VLOOKUP(Tabela1[[#This Row],[COD SV]],BD!N:Q,4,0),0) -> 756.84 | M16: =Tabela1[[#This Row],[VENDA]]/$C$3*$B$3 -> 33842.877 | N16: =IFERROR(Tabela1[[#This Row],[TENDÊNCIA]]/Tabela1[[#This Row],[META]],0) -> 0.94007991
B17: CLAUDIA | C17: 260 | D17: JONATAS | E17: =IFERROR(VLOOKUP(C17,BD!H:I,2,0),0) -> 115 | F17: =IFERROR(VLOOKUP(C17,BD!H:J,3,0),0) -> 1239 | G17: 61000 | H17: =IFERROR(VLOOKUP(C17,BD!H:K,4,0),0) -> 42971.97 | I17: =IFERROR(H17/G17,0) -> 0.70445852 | J17: =Tabela1[[#This Row],[META]]-Tabela1[[#This Row],[VENDA]] -> 18028.03 | K17: =IFERROR(Tabela1[[#This Row],[GAP ]]/$C$4,0) -> 6009.3433 | L17: =IFERROR(VLOOKUP(Tabela1[[#This Row],[COD SV]],BD!N:Q,4,0),0) -> 1635.08 | M17: =Tabela1[[#This Row],[VENDA]]/$C$3*$B$3 -> 50133.965 | N17: =IFERROR(Tabela1[[#This Row],[TENDÊNCIA]]/Tabela1[[#This Row],[META]],0) -> 0.82186828
B18: CLAUDIA | C18: 150 | D18: ROBSON | E18: =IFERROR(VLOOKUP(C18,BD!H:I,2,0),0) -> 310 | F18: =IFERROR(VLOOKUP(C18,BD!H:J,3,0),0) -> 2445 | G18: 115000 | H18: =IFERROR(VLOOKUP(C18,BD!H:K,4,0),0) -> 78523.77 | I18: =IFERROR(H18/G18,0) -> 0.68281539 | J18: =Tabela1[[#This Row],[META]]-Tabela1[[#This Row],[VENDA]] -> 36476.23 | K18: =IFERROR(Tabela1[[#This Row],[GAP ]]/$C$4,0) -> 12158.743 | L18: =IFERROR(VLOOKUP(Tabela1[[#This Row],[COD SV]],BD!N:Q,4,0),0) -> 5746.92 | M18: =Tabela1[[#This Row],[VENDA]]/$C$3*$B$3 -> 91611.065 | N18: =IFERROR(Tabela1[[#This Row],[TENDÊNCIA]]/Tabela1[[#This Row],[META]],0) -> 0.79661796
B19: CLAUDIA | C19: 220 | D19: DOUGLAS | E19: =IFERROR(VLOOKUP(C19,BD!H:I,2,0),0) -> 101 | F19: =IFERROR(VLOOKUP(C19,BD!H:J,3,0),0) -> 2001 | G19: 72000 | H19: =IFERROR(VLOOKUP(C19,BD!H:K,4,0),0) -> 47689.66 | I19: =IFERROR(H19/G19,0) -> 0.66235639 | J19: =Tabela1[[#This Row],[META]]-Tabela1[[#This Row],[VENDA]] -> 24310.34 | K19: =IFERROR(Tabela1[[#This Row],[GAP ]]/$C$4,0) -> 8103.4467 | L19: =IFERROR(VLOOKUP(Tabela1[[#This Row],[COD SV]],BD!N:Q,4,0),0) -> 24.9 | M19: =Tabela1[[#This Row],[VENDA]]/$C$3*$B$3 -> 55637.937 | N19: =IFERROR(Tabela1[[#This Row],[TENDÊNCIA]]/Tabela1[[#This Row],[META]],0) -> 0.77274912
B20: CLAUDIA | C20: 320 | D20: MUNIQUE | E20: =IFERROR(VLOOKUP(C20,BD!H:I,2,0),0) -> 221 | F20: =IFERROR(VLOOKUP(C20,BD!H:J,3,0),0) -> 1122 | G20: 43000 | H20: =IFERROR(VLOOKUP(C20,BD!H:K,4,0),0) -> 28059.07 | I20: =IFERROR(H20/G20,0) -> 0.65253651 | J20: =Tabela1[[#This Row],[META]]-Tabela1[[#This Row],[VENDA]] -> 14940.93 | K20: =IFERROR(Tabela1[[#This Row],[GAP ]]/$C$4,0) -> 4980.31 | L20: =IFERROR(VLOOKUP(Tabela1[[#This Row],[COD SV]],BD!N:Q,4,0),0) -> 1487.23 | M20: =Tabela1[[#This Row],[VENDA]]/$C$3*$B$3 -> 32735.582 | N20: =IFERROR(Tabela1[[#This Row],[TENDÊNCIA]]/Tabela1[[#This Row],[META]],0) -> 0.7612926
B21: CLAUDIA | C21: 360 | D21: LOURIMAR | E21: =IFERROR(VLOOKUP(C21,BD!H:I,2,0),0) -> 67 | F21: =IFERROR(VLOOKUP(C21,BD!H:J,3,0),0) -> 686 | G21: 36000 | H21: =IFERROR(VLOOKUP(C21,BD!H:K,4,0),0) -> 21792.3 | I21: =IFERROR(H21/G21,0) -> 0.60534167 | J21: =Tabela1[[#This Row],[META]]-Tabela1[[#This Row],[VENDA]] -> 14207.7 | K21: =IFERROR(Tabela1[[#This Row],[GAP ]]/$C$4,0) -> 4735.9 | L21: =IFERROR(VLOOKUP(Tabela1[[#This Row],[COD SV]],BD!N:Q,4,0),0) -> 105.9 | M21: =Tabela1[[#This Row],[VENDA]]/$C$3*$B$3 -> 25424.35 | N21: =IFERROR(Tabela1[[#This Row],[TENDÊNCIA]]/Tabela1[[#This Row],[META]],0) -> 0.70623194
B22: CLAUDIA | C22: 270 | D22: LEANDRO | E22: =IFERROR(VLOOKUP(C22,BD!H:I,2,0),0) -> 54 | F22: =IFERROR(VLOOKUP(C22,BD!H:J,3,0),0) -> 14129 | G22: 315000 | H22: =IFERROR(VLOOKUP(C22,BD!H:K,4,0),0) -> 213922.27 | I22: =IFERROR(H22/G22,0) -> 0.67911832 | J22: =Tabela1[[#This Row],[META]]-Tabela1[[#This Row],[VENDA]] -> 101077.73 | K22: =IFERROR(Tabela1[[#This Row],[GAP ]]/$C$4,0) -> 33692.577 | L22: =IFERROR(VLOOKUP(Tabela1[[#This Row],[COD SV]],BD!N:Q,4,0),0) -> 3997.15 | M22: =Tabela1[[#This Row],[VENDA]]/$C$3*$B$3 -> 249575.98 | N22: =IFERROR(Tabela1[[#This Row],[TENDÊNCIA]]/Tabela1[[#This Row],[META]],0) -> 0.7923047
B23: CLAUDIA | C23: 250 | D23: WESKLEY | E23: =IFERROR(VLOOKUP(C23,BD!H:I,2,0),0) -> 180 | F23: =IFERROR(VLOOKUP(C23,BD!H:J,3,0),0) -> 3033 | G23: 122000 | H23: =IFERROR(VLOOKUP(C23,BD!H:K,4,0),0) -> 67406.79 | I23: =IFERROR(H23/G23,0) -> 0.55251467 | J23: =Tabela1[[#This Row],[META]]-Tabela1[[#This Row],[VENDA]] -> 54593.21 | K23: =IFERROR(Tabela1[[#This Row],[GAP ]]/$C$4,0) -> 18197.737 | L23: =IFERROR(VLOOKUP(Tabela1[[#This Row],[COD SV]],BD!N:Q,4,0),0) -> 7287.06 | M23: =Tabela1[[#This Row],[VENDA]]/$C$3*$B$3 -> 78641.255 | N23: =IFERROR(Tabela1[[#This Row],[TENDÊNCIA]]/Tabela1[[#This Row],[META]],0) -> 0.64460045
B24: CLAUDIA | C24: 4980 | D24: BRUNA | E24: =IFERROR(VLOOKUP(C24,BD!H:I,2,0),0) -> 166 | F24: =IFERROR(VLOOKUP(C24,BD!H:J,3,0),0) -> 3419 | G24: 130000 | H24: =IFERROR(VLOOKUP(C24,BD!H:K,4,0),0) -> 67264.35 | I24: =IFERROR(H24/G24,0) -> 0.51741808 | J24: =Tabela1[[#This Row],[META]]-Tabela1[[#This Row],[VENDA]] -> 62735.65 | K24: =IFERROR(Tabela1[[#This Row],[GAP ]]/$C$4,0) -> 20911.883 | L24: =IFERROR(VLOOKUP(Tabela1[[#This Row],[COD SV]],BD!N:Q,4,0),0) -> 1503.71 | M24: =Tabela1[[#This Row],[VENDA]]/$C$3*$B$3 -> 78475.075 | N24: =IFERROR(Tabela1[[#This Row],[TENDÊNCIA]]/Tabela1[[#This Row],[META]],0) -> 0.60365442
B25: CLAUDIA | C25: 104 | D25: DIEGO | E25: =IFERROR(VLOOKUP(C25,BD!H:I,2,0),0) -> 187 | F25: =IFERROR(VLOOKUP(C25,BD!H:J,3,0),0) -> 2407 | G25: 180000 | H25: =IFERROR(VLOOKUP(C25,BD!H:K,4,0),0) -> 54293.7 | I25: =IFERROR(H25/G25,0) -> 0.30163167 | J25: =Tabela1[[#This Row],[META]]-Tabela1[[#This Row],[VENDA]] -> 125706.3 | K25: =IFERROR(Tabela1[[#This Row],[GAP ]]/$C$4,0) -> 41902.1 | L25: =IFERROR(VLOOKUP(Tabela1[[#This Row],[COD SV]],BD!N:Q,4,0),0) -> 3661 | M25: =Tabela1[[#This Row],[VENDA]]/$C$3*$B$3 -> 63342.65 | N25: =IFERROR(Tabela1[[#This Row],[TENDÊNCIA]]/Tabela1[[#This Row],[META]],0) -> 0.35190361
B27: TIME FABRÍCIO
E28: =SUBTOTAL(109,E30:E37) -> 805 | F28: =SUBTOTAL(109,F30:F37) -> 13105 | G28: =SUBTOTAL(109,G30:G37) -> 778000 | H28: =SUBTOTAL(109,H30:H37) -> 270085.7 | I28: =H28/G28 -> 0.34715386 | J28: =G28-H28 -> 507914.3 | K28: =SUBTOTAL(109,L30:L37) -> 453.39 | L28: =SUBTOTAL(109,Tabela3[VENDA ONTEM]) -> 453.39 | M28: =SUBTOTAL(109,M30:M37) -> 333635.28 | N28: =M28/G28 -> 0.42883712
B29: GGV | C29: COD SV | D29: NOME SV | E29: POSITIVAÇÃO | F29: QTD VENDIDA | G29: META | H29: VENDA | I29: % REALIZADO | J29: GAP | K29: META DIA | L29: VENDA ONTEM | M29: TENDÊNCIA | N29: % TEND
B30: FABRICIO | C30: 180 | D30: FERNANDDA | E30: =IFERROR(VLOOKUP(Tabela3[[#This Row],[COD SV]],BD!H:I,2,0),0) -> 150 | F30: =IFERROR(VLOOKUP(Tabela3[[#This Row],[COD SV]],BD!H:J,3,0),0) -> 5366 | G30: 129000 | H30: =IFERROR(VLOOKUP(C30,BD!H:K,4,0),0) -> 96363.1 | I30: =IFERROR(H30/G30,0) -> 0.74700078 | J30: =Tabela3[[#This Row],[META]]-Tabela3[[#This Row],[VENDA]] -> 32636.9 | K30: =IFERROR(Tabela3[[#This Row],[GAP ]]/$C$4,0) -> 10878.967 | L30: =IFERROR(VLOOKUP(Tabela3[[#This Row],[COD SV]],BD!N:Q,4,0),0) -> 1339.33 | M30: =Tabela3[[#This Row],[VENDA]]/$C$3*$B$3 -> 112423.62 | N30: =Tabela3[[#This Row],[TENDÊNCIA]]/Tabela3[[#This Row],[META]] -> 0.8715009
B31: FABRICIO | C31: 800 | D31: MICHEL | E31: =IFERROR(VLOOKUP(Tabela3[[#This Row],[COD SV]],BD!H:I,2,0),0) -> 79 | F31: =IFERROR(VLOOKUP(Tabela3[[#This Row],[COD SV]],BD!H:J,3,0),0) -> 2380 | G31: 53000 | H31: =IFERROR(VLOOKUP(C31,BD!H:K,4,0),0) -> 38113.15 | I31: =IFERROR(H31/G31,0) -> 0.71911604 | J31: =Tabela3[[#This Row],[META]]-Tabela3[[#This Row],[VENDA]] -> 14886.85 | K31: =IFERROR(Tabela3[[#This Row],[GAP ]]/$C$4,0) -> 4962.2833 | L31: =IFERROR(VLOOKUP(Tabela3[[#This Row],[COD SV]],BD!N:Q,4,0),0) -> 1613.94 | M31: =Tabela3[[#This Row],[VENDA]]/$C$3*$B$3 -> 44465.342 | N31: =Tabela3[[#This Row],[TENDÊNCIA]]/Tabela3[[#This Row],[META]] -> 0.83896871
B32: FABRICIO | C32: 370 | D32: FERNANDO | E32: =IFERROR(VLOOKUP(Tabela3[[#This Row],[COD SV]],BD!H:I,2,0),0) -> 104 | F32: =IFERROR(VLOOKUP(Tabela3[[#This Row],[COD SV]],BD!H:J,3,0),0) -> 2097 | G32: 93000 | H32: =IFERROR(VLOOKUP(C32,BD!H:K,4,0),0) -> 44311.52 | I32: =IFERROR(H32/G32,0) -> 0.47646796 | J32: =Tabela3[[#This Row],[META]]-Tabela3[[#This Row],[VENDA]] -> 48688.48 | K32: =IFERROR(Tabela3[[#This Row],[GAP ]]/$C$4,0) -> 16229.493 | L32: =IFERROR(VLOOKUP(Tabela3[[#This Row],[COD SV]],BD!N:Q,4,0),0) -> 0 | M32: =Tabela3[[#This Row],[VENDA]]/$C$3*$B$3 -> 51696.773 | N32: =Tabela3[[#This Row],[TENDÊNCIA]]/Tabela3[[#This Row],[META]] -> 0.55587928
B33: FABRICIO | C33: 280 | D33: SV DEC DF | E33: =IFERROR(VLOOKUP(Tabela3[[#This Row],[COD SV]],BD!H:I,2,0),0) -> 128 | F33: =IFERROR(VLOOKUP(Tabela3[[#This Row],[COD SV]],BD!H:J,3,0),0) -> 786 | G33: 35000 | H33: =IFERROR(VLOOKUP(C33,BD!H:K,4,0),0) -> 16230.66 | I33: =IFERROR(H33/G33,0) -> 0.46373314 | J33: =Tabela3[[#This Row],[META]]-Tabela3[[#This Row],[VENDA]] -> 18769.34 | K33: =IFERROR(Tabela3[[#This Row],[GAP ]]/$C$4,0) -> 6256.4467 | L33: =IFERROR(VLOOKUP(Tabela3[[#This Row],[COD SV]],BD!N:Q,4,0),0) -> 605.91 | M33: =Tabela3[[#This Row],[VENDA]]/$C$3*$B$3 -> 18935.77 | N33: =Tabela3[[#This Row],[TENDÊNCIA]]/Tabela3[[#This Row],[META]] -> 0.541022
B34: FABRICIO | C34: 650 | D34: CLAUDINEI | E34: =IFERROR(VLOOKUP(Tabela3[[#This Row],[COD SV]],BD!H:I,2,0),0) -> 61 | F34: =IFERROR(VLOOKUP(Tabela3[[#This Row],[COD SV]],BD!H:J,3,0),0) -> 349 | G34: 18000 | H34: =IFERROR(VLOOKUP(C34,BD!H:K,4,0),0) -> 7382.32 | I34: =IFERROR(H34/G34,0) -> 0.41012889 | J34: =Tabela3[[#This Row],[META]]-Tabela3[[#This Row],[VENDA]] -> 10617.68 | K34: =IFERROR(Tabela3[[#This Row],[GAP ]]/$C$4,0) -> 3539.2267 | L34: =IFERROR(VLOOKUP(Tabela3[[#This Row],[COD SV]],BD!N:Q,4,0),0) -> 19.34 | M34: =Tabela3[[#This Row],[VENDA]]/$C$3*$B$3 -> 8612.7067 | N34: =Tabela3[[#This Row],[TENDÊNCIA]]/Tabela3[[#This Row],[META]] -> 0.4784837
B35: FABRICIO | C35: 555 | D35: MAIRA | E35: =IFERROR(VLOOKUP(Tabela3[[#This Row],[COD SV]],BD!H:I,2,0),0) -> 85 | F35: =IFERROR(VLOOKUP(Tabela3[[#This Row],[COD SV]],BD!H:J,3,0),0) -> 518 | G35: 48000 | H35: =IFERROR(VLOOKUP(C35,BD!H:K,4,0),0) -> 15316.83 | I35: =IFERROR(H35/G35,0) -> 0.31910063 | J35: =Tabela3[[#This Row],[META]]-Tabela3[[#This Row],[VENDA]] -> 32683.17 | K35: =IFERROR(Tabela3[[#This Row],[GAP ]]/$C$4,0) -> 10894.39 | L35: =IFERROR(VLOOKUP(Tabela3[[#This Row],[COD SV]],BD!N:Q,4,0),0) -> 1116.67 | M35: =Tabela3[[#This Row],[VENDA]]/$C$3*$B$3 -> 17869.635 | N35: =Tabela3[[#This Row],[TENDÊNCIA]]/Tabela3[[#This Row],[META]] -> 0.37228406
B36: FABRICIO | C36: 290 | D36: MARCELO | E36: =IFERROR(VLOOKUP(Tabela3[[#This Row],[COD SV]],BD!H:I,2,0),0) -> 126 | F36: =IFERROR(VLOOKUP(Tabela3[[#This Row],[COD SV]],BD!H:J,3,0),0) -> 1323 | G36: 147000 | H36: =IFERROR(VLOOKUP(C36,BD!H:K,4,0),0) -> 48703.67 | I36: =IFERROR(H36/G36,0) -> 0.33131748 | J36: =Tabela3[[#This Row],[META]]-Tabela3[[#This Row],[VENDA]] -> 98296.33 | K36: =IFERROR(Tabela3[[#This Row],[GAP ]]/$C$4,0) -> 32765.443 | L36: =IFERROR(VLOOKUP(Tabela3[[#This Row],[COD SV]],BD!N:Q,4,0),0) -> 1842.51 | M36: =Tabela3[[#This Row],[VENDA]]/$C$3*$B$3 -> 56820.948 | N36: =Tabela3[[#This Row],[TENDÊNCIA]]/Tabela3[[#This Row],[META]] -> 0.38653706
B37: FABRICIO | C37: 777 | D37: WANDERSON | E37: =IFERROR(VLOOKUP(Tabela3[[#This Row],[COD SV]],BD!H:I,2,0),0) -> 91 | F37: =IFERROR(VLOOKUP(Tabela3[[#This Row],[COD SV]],BD!H:J,3,0),0) -> 740 | G37: 255000 | H37: =IFERROR(VLOOKUP(C37,BD!H:K,4,0),0) -> 22846.04 | I37: =IFERROR(H37/G37,0) -> 0.089592314 | J37: =Tabela3[[#This Row],[META]]-Tabela3[[#This Row],[VENDA]] -> 232153.96 | K37: =IFERROR(Tabela3[[#This Row],[GAP ]]/$C$4,0) -> 77384.653 | L37: =IFERROR(VLOOKUP(Tabela3[[#This Row],[COD SV]],BD!N:Q,4,0),0) -> 1206.43 | M37: =Tabela3[[#This Row],[VENDA]]/$C$3*$B$3 -> 26653.713 | N37: =Tabela3[[#This Row],[TENDÊNCIA]]/Tabela3[[#This Row],[META]] -> 0.10452437

Sheet POR RCA
B2: PAINEL DE ACOMPANHAMENTO BIC - RCA- OUTUBRO/2026
B5: DIAS UTEIS | C5: DIAS TRAB.
B6: 21 | C6: 18
C7: =B6-C6 -> 3
E8: =SUBTOTAL(109,E10:E464) -> 2721 | F8: =SUBTOTAL(109,F10:F464) -> 49128 | G8: =SUBTOTAL(109,G10:G464) -> 2106200 | H8: =SUBTOTAL(109,H10:H464) -> 1040133.7 | I8: =H8/G8 -> 0.49384377 | J8: =G8-H8 -> 1066066.3 | K8: =SUBTOTAL(109,K10:K458) -> 355355.42 | L8: =SUBTOTAL(109,L10:L458) -> 44442.08 | M8: =H8/B6*C6 -> 1213489.4 | N8: =M8/G8 -> 0.57615106
B9: SV | C9: COD RCA | D9: RCA | E9: POSITIVAÇÃO | F9: QTD VENDIDA | G9: META | H9: VENDA | I9: % REALIZADO | J9: GAP | K9: META DIA | L9: VENDA ONTEM | M9: TENDÊNCIA | N9: % TEND
B10: 340 | C10: 3478 | D10: K D O LAURINDO REPRE LTDA(KARLA DANIELA) | E10: =IFERROR(VLOOKUP(C10,BD!T:U,2,0),0) -> 2 | F10: =IFERROR(VLOOKUP(C10,BD!T:V,3,0),0) -> 244 | G10: =VLOOKUP(C10,[1]BIC!$B:$K,10,0) -> 1000 | H10: =IFERROR(VLOOKUP(C10,BD!T:W,4,0),0) -> 10239.94 | I10: =H10/G10 -> 10.23994 | J10: =G10-H10 -> -9239.94 | K10: =J10/$C$7 -> -3079.98 | L10: =IFERROR(VLOOKUP(C10,BD!Z:AC,4,0),0) -> 0 | M10: =H10/$B$6*$C$6 -> 11946.597 | N10: =IFERROR(M10/G10,0) -> 11.946597
B11: 4980 | C11: 3120 | D11: KELLY C FREITAS REPRESENTACAO COMERC# | E11: =IFERROR(VLOOKUP(C11,BD!T:U,2,0),0) -> 6 | F11: =IFERROR(VLOOKUP(C11,BD!T:V,3,0),0) -> 2020 | G11: =VLOOKUP(C11,[1]BIC!$B:$K,10,0) -> 4300 | H11: =IFERROR(VLOOKUP(C11,BD!T:W,4,0),0) -> 23718.1 | I11: =H11/G11 -> 5.5158372 | J11: =G11-H11 -> -19418.1 | K11: =J11/$C$7 -> -6472.7 | L11: =IFERROR(VLOOKUP(C11,BD!Z:AC,4,0),0) -> 74.04 | M11: =H11/$B$6*$C$6 -> 27671.117 | N11: =IFERROR(M11/G11,0) -> 6.4351434
B12: 370 | C12: 3812 | D12: CONTINI REPRESENTACOES COM.LTDA (ANDRE) | E12: =IFERROR(VLOOKUP(C12,BD!T:U,2,0),0) -> 3 | F12: =IFERROR(VLOOKUP(C12,BD!T:V,3,0),0) -> 522 | G12: =VLOOKUP(C12,[1]BIC!$B:$K,10,0) -> 1200 | H12: =IFERROR(VLOOKUP(C12,BD!T:W,4,0),0) -> 6201.11 | I12: =H12/G12 -> 5.1675917 | J12: =G12-H12 -> -5001.11 | K12: =J12/$C$7 -> -1667.0367 | L12: =IFERROR(VLOOKUP(C12,BD!Z:AC,4,0),0) -> 0 | M12: =H12/$B$6*$C$6 -> 7234.6283 | N12: =IFERROR(M12/G12,0) -> 6.0288569
B13: 400 | C13: 4228 | D13: BN REPRESENTACOES COMERCIAIS LTDA(BRUNA) | E13: =IFERROR(VLOOKUP(C13,BD!T:U,2,0),0) -> 9 | F13: =IFERROR(VLOOKUP(C13,BD!T:V,3,0),0) -> 521 | G13: =VLOOKUP(C13,[1]BIC!$B:$K,10,0) -> 1800 | H13: =IFERROR(VLOOKUP(C13,BD!T:W,4,0),0) -> 9118.4 | I13: =H13/G13 -> 5.0657778 | J13: =G13-H13 -> -7318.4 | K13: =J13/$C$7 -> -2439.4667 | L13: =IFERROR(VLOOKUP(C13,BD!Z:AC,4,0),0) -> 105.45 | M13: =H13/$B$6*$C$6 -> 10638.133 | N13: =IFERROR(M13/G13,0) -> 5.9100741
B14: 360 | C14: 9185 | D14: CECILIANO & CECILIANO ( ROMARIO) | E14: =IFERROR(VLOOKUP(C14,BD!T:U,2,0),0) -> 12 | F14: =IFERROR(VLOOKUP(C14,BD!T:V,3,0),0) -> 346 | G14: =VLOOKUP(C14,[1]BIC!$B:$K,10,0) -> 2300 | H14: =IFERROR(VLOOKUP(C14,BD!T:W,4,0),0) -> 11615.9 | I14: =H14/G14 -> 5.0503913 | J14: =G14-H14 -> -9315.9 | K14: =J14/$C$7 -> -3105.3 | L14: =IFERROR(VLOOKUP(C14,BD!Z:AC,4,0),0) -> 0 | M14: =H14/$B$6*$C$6 -> 13551.883 | N14: =IFERROR(M14/G14,0) -> 5.8921232
B15: 260 | C15: 5135 | D15: WK REP. ( WAITON JOSE) | E15: =IFERROR(VLOOKUP(C15,BD!T:U,2,0),0) -> 4 | F15: =IFERROR(VLOOKUP(C15,BD!T:V,3,0),0) -> 74 | G15: =VLOOKUP(C15,[1]BIC!$B:$K,10,0) -> 1700 | H15: =IFERROR(VLOOKUP(C15,BD!T:W,4,0),0) -> 8000.44 | I15: =H15/G15 -> 4.7061412 | J15: =G15-H15 -> -6300.44 | K15: =J15/$C$7 -> -2100.1467 | L15: =IFERROR(VLOOKUP(C15,BD!Z:AC,4,0),0) -> 0 | M15: =H15/$B$6*$C$6 -> 9333.8467 | N15: =IFERROR(M15/G15,0) -> 5.490498
B16: 250 | C16: 5233 | D16: CATIA VIEIRA DOS SANTOS REPRESENT # | E16: =IFERROR(VLOOKUP(C16,BD!T:U,2,0),0) -> 2 | F16: =IFERROR(VLOOKUP(C16,BD!T:V,3,0),0) -> 301 | G16: =VLOOKUP(C16,[1]BIC!$B:$K,10,0) -> 1000 | H16: =IFERROR(VLOOKUP(C16,BD!T:W,4,0),0) -> 4097.41 | I16: =H16/G16 -> 4.09741 | J16: =G16-H16 -> -3097.41 | K16: =J16/$C$7 -> -1032.47 | L16: =IFERROR(VLOOKUP(C16,BD!Z:AC,4,0),0) -> 4054.08 | M16: =H16/$B$6*$C$6 -> 4780.3117 | N16: =IFERROR(M16/G16,0) -> 4.7803117
B17: 450 | C17: 4559 | D17: CAMILLA CASTRO DOS SANTOS | E17: =IFERROR(VLOOKUP(C17,BD!T:U,2,0),0) -> 3 | F17: =IFERROR(VLOOKUP(C17,BD!T:V,3,0),0) -> 146 | G17: =VLOOKUP(C17,[1]BIC!$B:$K,10,0) -> 1000 | H17: =IFERROR(VLOOKUP(C17,BD!T:W,4,0),0) -> 3775.96 | I17: =H17/G17 -> 3.77596 | J17: =G17-H17 -> -2775.96 | K17: =J17/$C$7 -> -925.32 | L17: =IFERROR(VLOOKUP(C17,BD!Z:AC,4,0),0) -> 0 | M17: =H17/$B$6*$C$6 -> 4405.2867 | N17: =IFERROR(M17/G17,0) -> 4.4052867
B18: 290 | C18: 3018 | D18: GW REPRESEN COMERCIAIS LTDA (GIZELHA) | E18: =IFERROR(VLOOKUP(C18,BD!T:U,2,0),0) -> 7 | F18: =IFERROR(VLOOKUP(C18,BD!T:V,3,0),0) -> 52 | G18: =VLOOKUP(C18,[1]BIC!$B:$K,10,0) -> 1300 | H18: =IFERROR(VLOOKUP(C18,BD!T:W,4,0),0) -> 3326.88 | I18: =H18/G18 -> 2.5591385 | J18: =G18-H18 -> -2026.88 | K18: =J18/$C$7 -> -675.62667 | L18: =IFERROR(VLOOKUP(C18,BD!Z:AC,4,0),0) -> 191.38 | M18: =H18/$B$6*$C$6 -> 3881.36 | N18: =IFERROR(M18/G18,0) -> 2.9856615
B19: 150 | C19: 1598 | D19: KARL MAX REPRESENTACAO | E19: =IFERROR(VLOOKUP(C19,BD!T:U,2,0),0) -> 9 | F19: =IFERROR(VLOOKUP(C19,BD!T:V,3,0),0) -> 363 | G19: =VLOOKUP(C19,[1]BIC!$B:$K,10,0) -> 2700 | H19: =IFERROR(VLOOKUP(C19,BD!T:W,4,0),0) -> 6490.93 | I19: =H19/G19 -> 2.4040481 | J19: =G19-H19 -> -3790.93 | K19: =J19/$C$7 -> -1263.6433 | L19: =IFERROR(VLOOKUP(C19,BD!Z:AC,4,0),0) -> 358.8 | M19: =H19/$B$6*$C$6 -> 7572.7517 | N19: =IFERROR(M19/G19,0) -> 2.8047228
B20: 370 | C20: 3853 | D20: TALISSA DA SILVA MATOZO LTDA | E20: =IFERROR(VLOOKUP(C20,BD!T:U,2,0),0) -> 4 | F20: =IFERROR(VLOOKUP(C20,BD!T:V,3,0),0) -> 66 | G20: =VLOOKUP(C20,[1]BIC!$B:$K,10,0) -> 1000 | H20: =IFERROR(VLOOKUP(C20,BD!T:W,4,0),0) -> 2315.77 | I20: =H20/G20 -> 2.31577 | J20: =G20-H20 -> -1315.77 | K20: =J20/$C$7 -> -438.59 | L20: =IFERROR(VLOOKUP(C20,BD!Z:AC,4,0),0) -> 0 | M20: =H20/$B$6*$C$6 -> 2701.7317 | N20: =IFERROR(M20/G20,0) -> 2.7017317
B21: 340 | C21: 3475 | D21: A S SILVA REPRE LTDA (ARISTON) | E21: =IFERROR(VLOOKUP(C21,BD!T:U,2,0),0) -> 2 | F21: =IFERROR(VLOOKUP(C21,BD!T:V,3,0),0) -> 102 | G21: =VLOOKUP(C21,[1]BIC!$B:$K,10,0) -> 1100 | H21: =IFERROR(VLOOKUP(C21,BD!T:W,4,0),0) -> 2482.33 | I21: =H21/G21 -> 2.2566636 | J21: =G21-H21 -> -1382.33 | K21: =J21/$C$7 -> -460.77667 | L21: =IFERROR(VLOOKUP(C21,BD!Z:AC,4,0),0) -> 0 | M21: =H21/$B$6*$C$6 -> 2896.0517 | N21: =IFERROR(M21/G21,0) -> 2.6327742
... B54: 150 | C54: 1648 | D54: C. V. BRANQUINHO EIRELI (CAMILLA) | E54: =IFERROR(VLOOKUP(C54,BD!T:U,2,0),0) -> 22 | F54: =IFERROR(VLOOKUP(C54,BD!T:V,3,0),0) -> 155 | G54: =VLOOKUP(C54,[1]BIC!$B:$K,10,0) -> 4700 | H54: =IFERROR(VLOOKUP(C54,BD!T:W,4,0),0) -> 5500.19 | I54: =H54/G54 -> 1.1702532 | J54: =G54-H54 -> -800.19 | K54: =J54/$C$7 -> -266.73 | L54: =IFERROR(VLOOKUP(C54,BD!Z:AC,4,0),0) -> 224.96 | M54: =H54/$B$6*$C$6 -> 6416.8883 | N54: =IFERROR(M54/G54,0) -> 1.3652954
B55: 4980 | C55: 5055 | D55: MURILO FERREIRA BATISTA DINIZ | E55: =IFERROR(VLOOKUP(C55,BD!T:U,2,0),0) -> 4 | F55: =IFERROR(VLOOKUP(C55,BD!T:V,3,0),0) -> 45 | G55: =VLOOKUP(C55,[1]BIC!$B:$K,10,0) -> 1000 | H55: =IFERROR(VLOOKUP(C55,BD!T:W,4,0),0) -> 1146.55 | I55: =H55/G55 -> 1.14655 | J55: =G55-H55 -> -146.55 | K55: -48.85 | L55: 0 | M55: 1337.6417 | N55: 1.3376417
B56: 370 | C56: 3850 | D56: R. DA SILVA SOARES E V. DA SILV(VIVIANE) | E56: =IFERROR(VLOOKUP(C56,BD!T:U,2,0),0) -> 5 | F56: =IFERROR(VLOOKUP(C56,BD!T:V,3,0),0) -> 98 | G56: =VLOOKUP(C56,[1]BIC!$B:$K,10,0) -> 3400 | H56: =IFERROR(VLOOKUP(C56,BD!T:W,4,0),0) -> 3845.58 | I56: =H56/G56 -> 1.1310529 | J56: =G56-H56 -> -445.58 | K56: =J56/$C$7 -> -148.52667 | L56: =IFERROR(VLOOKUP(C56,BD!Z:AC,4,0),0) -> 0 | M56: =H56/$B$6*$C$6 -> 4486.51 | N56: =IFERROR(M56/G56,0) -> 1.3195618
B57: 4980 | C57: 3123 | D57: JBM RAMOS REPRESENTACOES EIREL(JULIANA) | E57: =IFERROR(VLOOKUP(C57,BD!T:U,2,0),0) -> 10 | F57: =IFERROR(VLOOKUP(C57,BD!T:V,3,0),0) -> 76 | G57: =VLOOKUP(C57,[1]BIC!$B:$K,10,0) -> 1600 | H57: =IFERROR(VLOOKUP(C57,BD!T:W,4,0),0) -> 1802.16 | I57: =H57/G57 -> 1.12635 | J57: =G57-H57 -> -202.16 | K57: =J57/$C$7 -> -67.386667 | L57: =IFERROR(VLOOKUP(C57,BD!Z:AC,4,0),0) -> 0 | M57: =H57/$B$6*$C$6 -> 2102.52 | N57: =IFERROR(M57/G57,0) -> 1.314075
B58: 260 | C58: 2686 | D58: L F FERREIRA DA SILVA LTDA(LUIZ FERNADO) | E58: =IFERROR(VLOOKUP(C58,BD!T:U,2,0),0) -> 3 | F58: =IFERROR(VLOOKUP(C58,BD!T:V,3,0),0) -> 53 | G58: =VLOOKUP(C58,[1]BIC!$B:$K,10,0) -> 1000 | H58: =IFERROR(VLOOKUP(C58,BD!T:W,4,0),0) -> 1257.82 | I58: =H58/G58 -> 1.25782 | J58: =G58-H58 -> -257.82 | K58: =J58/$C$7 -> -85.94 | L58: =IFERROR(VLOOKUP(C58,BD!Z:AC,4,0),0) -> 0 | M58: =H58/$B$6*$C$6 -> 1467.4567 | N58: =IFERROR(M58/G58,0) -> 1.4674567
B59: 450 | C59: 3100 | D59: M M REPRESENTACOES LTDA (RUBENS FRANCIS) | E59: =IFERROR(VLOOKUP(C59,BD!T:U,2,0),0) -> 8 | F59: =IFERROR(VLOOKUP(C59,BD!T:V,3,0),0) -> 158 | G59: =VLOOKUP(C59,[1]BIC!$B:$K,10,0) -> 4100 | H59: =IFERROR(VLOOKUP(C59,BD!T:W,4,0),0) -> 4513.83 | I59: =H59/G59 -> 1.1009341 | J59: =G59-H59 -> -413.83 | K59: =J59/$C$7 -> -137.94333 | L59: =IFERROR(VLOOKUP(C59,BD!Z:AC,4,0),0) -> 0 | M59: =H59/$B$6*$C$6 -> 5266.135 | N59: =IFERROR(M59/G59,0) -> 1.2844232
B60: 450 | C60: 4551 | D60: AIRIS DA P A LIMA REPRESENTACOES LTDA | E60: =IFERROR(VLOOKUP(C60,BD!T:U,2,0),0) -> 1 | F60: =IFERROR(VLOOKUP(C60,BD!T:V,3,0),0) -> 6 | G60: =VLOOKUP(C60,[1]BIC!$B:$K,10,0) -> 1000 | H60: =IFERROR(VLOOKUP(C60,BD!T:W,4,0),0) -> 1094.52 | I60: =H60/G60 -> 1.09452 | J60: =G60-H60 -> -94.52 | K60: =J60/$C$7 -> -31.506667 | L60: =IFERROR(VLOOKUP(C60,BD!Z:AC,4,0),0) -> 0 | M60: =H60/$B$6*$C$6 -> 1276.94 | N60: =IFERROR(M60/G60,0) -> 1.27694
B61: 180 | C61: 1971 | D61: JEANE REPRESENTACOES COMERCIAIS EIRELI | E61: =IFERROR(VLOOKUP(C61,BD!T:U,2,0),0) -> 6 | F61: =IFERROR(VLOOKUP(C61,BD!T:V,3,0),0) -> 251 | G61: =VLOOKUP(C61,[1]BIC!$B:$K,10,0) -> 7100 | H61: =IFERROR(VLOOKUP(C61,BD!T:W,4,0),0) -> 7760.3 | I61: =H61/G61 -> 1.093 | J61: =G61-H61 -> -660.3 | K61: =J61/$C$7 -> -220.1 | L61: =IFERROR(VLOOKUP(C61,BD!Z:AC,4,0),0) -> 573.55 | M61: =H61/$B$6*$C$6 -> 9053.6833 | N61: =IFERROR(M61/G61,0) -> 1.2751667
B62: 270 | C62: 2721 | D62: SILVA LTDA (SANDRA)# | E62: =IFERROR(VLOOKUP(C62,BD!T:U,2,0),0) -> 4 | F62: =IFERROR(VLOOKUP(C62,BD!T:V,3,0),0) -> 248 | G62: =VLOOKUP(C62,[1]BIC!$B:$K,10,0) -> 3700 | H62: =IFERROR(VLOOKUP(C62,BD!T:W,4,0),0) -> 4030.43 | I62: =H62/G62 -> 1.0893054 | J62: =G62-H62 -> -330.43 | K62: =J62/$C$7 -> -110.14333 | L62: =IFERROR(VLOOKUP(C62,BD!Z:AC,4,0),0) -> 0 | M62: =H62/$B$6*$C$6 -> 4702.1683 | N62: =IFERROR(M62/G62,0) -> 1.2708563
B63: 320 | C63: 3229 | D63: ARTUR COTA REPRESENTACOES EIRELI | E63: =IFERROR(VLOOKUP(C63,BD!T:U,2,0),0) -> 9 | F63: =IFERROR(VLOOKUP(C63,BD!T:V,3,0),0) -> 55 | G63: =VLOOKUP(C63,[1]BIC!$B:$K,10,0) -> 1600 | H63: =IFERROR(VLOOKUP(C63,BD!T:W,4,0),0) -> 1723.26 | I63: =H63/G63 -> 1.0770375 | J63: =G63-H63 -> -123.26 | K63: =J63/$C$7 -> -41.086667 | L63: =IFERROR(VLOOKUP(C63,BD!Z:AC,4,0),0) -> 173.73 | M63: =H63/$B$6*$C$6 -> 2010.47 | N63: =IFERROR(M63/G63,0) -> 1.2565438
B64: 555 | C64: 5960 | D64: ANA PAULA REPRESENTACOES | E64: =IFERROR(VLOOKUP(C64,BD!T:U,2,0),0) -> 4 | F64: =IFERROR(VLOOKUP(C64,BD!T:V,3,0),0) -> 43 | G64: =VLOOKUP(C64,[1]BIC!$B:$K,10,0) -> 1200 | H64: =IFERROR(VLOOKUP(C64,BD!T:W,4,0),0) -> 1265.04 | I64: =H64/G64 -> 1.0542 | J64: =G64-H64 -> -65.04 | K64: =J64/$C$7 -> -21.68 | L64: =IFERROR(VLOOKUP(C64,BD!Z:AC,4,0),0) -> 178.65 | M64: =H64/$B$6*$C$6 -> 1475.88 | N64: =IFERROR(M64/G64,0) -> 1.2299
B65: 400 | C65: 4217 | D65: VIVIANE REPRESENTACAO LTDA | E65: =IFERROR(VLOOKUP(C65,BD!T:U,2,0),0) -> 11 | F65: =IFERROR(VLOOKUP(C65,BD!T:V,3,0),0) -> 64 | G65: =VLOOKUP(C65,[1]BIC!$B:$K,10,0) -> 1200 | H65: =IFERROR(VLOOKUP(C65,BD!T:W,4,0),0) -> 1308.97 | I65: =H65/G65 -> 1.0908083 | J65: =G65-H65 -> -108.97 | K65: =J65/$C$7 -> -36.323333 | L65: =IFERROR(VLOOKUP(C65,BD!Z:AC,4,0),0) -> 757.87 | M65: =H65/$B$6*$C$6 -> 1527.1317 | N65: =IFERROR(M65/G65,0) -> 1.2726097
B66: 777 | C66: 7775 | D66: ERLANDIA DO CARMO SILVA | E66: =IFERROR(VLOOKUP(C66,BD!T:U,2,0),0) -> 5 | F66: =IFERROR(VLOOKUP(C66,BD!T:V,3,0),0) -> 8 | G66: =VLOOKUP(C66,[1]BIC!$B:$K,10,0) -> 1000 | H66: =IFERROR(VLOOKUP(C66,BD!T:W,4,0),0) -> 1016.14 | I66: =H66/G66 -> 1.01614 | J66: =G66-H66 -> -16.14 | K66: =J66/$C$7 -> -5.38 | L66: =IFERROR(VLOOKUP(C66,BD!Z:AC,4,0),0) -> 0 | M66: =H66/$B$6*$C$6 -> 1185.4967 | N66: =IFERROR(M66/G66,0) -> 1.1854967
B67: 450 | C67: 302 | D67: U P S REPRES. (UELITON PEREIRA ) | E67: =IFERROR(VLOOKUP(C67,BD!T:U,2,0),0) -> 13 | F67: =IFERROR(VLOOKUP(C67,BD!T:V,3,0),0) -> 49 | G67: =VLOOKUP(C67,[1]BIC!$B:$K,10,0) -> 2000 | H67: =IFERROR(VLOOKUP(C67,BD!T:W,4,0),0) -> 2031.9 | I67: =H67/G67 -> 1.01595 | J67: =G67-H67 -> -31.9 | K67: =J67/$C$7 -> -10.633333 | L67: =IFERROR(VLOOKUP(C67,BD!Z:AC,4,0),0) -> 0 | M67: =H67/$B$6*$C$6 -> 2370.55 | N67: =IFERROR(M67/G67,0) -> 1.185275
... B147: 450 | C147: 4522 | D147: U P S REPRESENTACAO LTDA (ELIZETE) | E147: =IFERROR(VLOOKUP(C147,BD!T:U,2,0),0) -> 6 | F147: =IFERROR(VLOOKUP(C147,BD!T:V,3,0),0) -> 16 | G147: =VLOOKUP(C147,[1]BIC!$B:$K,10,0) -> 1000 | H147: =IFERROR(VLOOKUP(C147,BD!T:W,4,0),0) -> 652.97 | I147: =H147/G147 -> 0.65297 | J147: =G147-H147 -> 347.03 | K147: =J147/$C$7 -> 115.67667 | L147: =IFERROR(VLOOKUP(C147,BD!Z:AC,4,0),0) -> 58.29 | M147: =H147/$B$6*$C$6 -> 761.79833 | N147: =IFERROR(M147/G147,0) -> 0.76179833
B148: 4980 | C148: 5051 | D148: SILVA SOUSA REPRESENTACOES LTDA(ELAINE) | E148: =IFERROR(VLOOKUP(C148,BD!T:U,2,0),0) -> 7 | F148: =IFERROR(VLOOKUP(C148,BD!T:V,3,0),0) -> 81 | G148: =VLOOKUP(C148,[1]BIC!$B:$K,10,0) -> 2200 | H148: =IFERROR(VLOOKUP(C148,BD!T:W,4,0),0) -> 1435.2 | I148: =H148/G148 -> 0.65236364 | J148: =G148-H148 -> 764.8 | K148: 254.93333 | L148: 0 | M148: 1674.4 | N148: 0.76109091
B149: 800 | C149: 7254 | D149: SIQ REPRESENTACAO LTDA(BRUNO MILANEZ)# | E149: =IFERROR(VLOOKUP(C149,BD!T:U,2,0),0) -> 17 | F149: =IFERROR(VLOOKUP(C149,BD!T:V,3,0),0) -> 206 | G149: =VLOOKUP(C149,[1]BIC!$B:$K,10,0) -> 12200 | H149: =IFERROR(VLOOKUP(C149,BD!T:W,4,0),0) -> 7955.14 | I149: =H149/G149 -> 0.65206066 | J149: =G149-H149 -> 4244.86 | K149: =J149/$C$7 -> 1414.9533 | L149: =IFERROR(VLOOKUP(C149,BD!Z:AC,4,0),0) -> 1613.94 | M149: =H149/$B$6*$C$6 -> 9280.9967 | N149: =IFERROR(M149/G149,0) -> 0.76073743
B150: 250 | C150: 5222 | D150: KELLER REPRESENTACOES LTDA | E150: =IFERROR(VLOOKUP(C150,BD!T:U,2,0),0) -> 8 | F150: =IFERROR(VLOOKUP(C150,BD!T:V,3,0),0) -> 58 | G150: =VLOOKUP(C150,[1]BIC!$B:$K,10,0) -> 2000 | H150: =IFERROR(VLOOKUP(C150,BD!T:W,4,0),0) -> 1294.77 | I150: =H150/G150 -> 0.647385 | J150: =G150-H150 -> 705.23 | K150: =J150/$C$7 -> 235.07667 | L150: =IFERROR(VLOOKUP(C150,BD!Z:AC,4,0),0) -> 0 | M150: =H150/$B$6*$C$6 -> 1510.565 | N150: =IFERROR(M150/G150,0) -> 0.7552825
B151: 450 | C151: 4549 | D151: PATRIK REPRESENTACOES LTDA | E151: =IFERROR(VLOOKUP(C151,BD!T:U,2,0),0) -> 4 | F151: =IFERROR(VLOOKUP(C151,BD!T:V,3,0),0) -> 39 | G151: =VLOOKUP(C151,[1]BIC!$B:$K,10,0) -> 1000 | H151: =IFERROR(VLOOKUP(C151,BD!T:W,4,0),0) -> 645.34 | I151: =H151/G151 -> 0.64534 | J151: =G151-H151 -> 354.66 | K151: =J151/$C$7 -> 118.22 | L151: =IFERROR(VLOOKUP(C151,BD!Z:AC,4,0),0) -> 192.91 | M151: =H151/$B$6*$C$6 -> 752.89667 | N151: =IFERROR(M151/G151,0) -> 0.75289667
B152: 280 | C152: 2889 | D152: CEFA REPRES COMERC E COSMET LTDA (JULIO) | E152: =IFERROR(VLOOKUP(C152,BD!T:U,2,0),0) -> 5 | F152: =IFERROR(VLOOKUP(C152,BD!T:V,3,0),0) -> 36 | G152: =VLOOKUP(C152,[1]BIC!$B:$K,10,0) -> 1000 | H152: =IFERROR(VLOOKUP(C152,BD!T:W,4,0),0) -> 645.06 | I152: =H152/G152 -> 0.64506 | J152: =G152-H152 -> 354.94 | K152: =J152/$C$7 -> 118.31333 | L152: =IFERROR(VLOOKUP(C152,BD!Z:AC,4,0),0) -> 0 | M152: =H152/$B$6*$C$6 -> 752.57 | N152: =IFERROR(M152/G152,0) -> 0.75257
B153: 555 | C153: 5968 | D153: J ALVES DE ALMEIDA EIRELI(JULIANA) | E153: =IFERROR(VLOOKUP(C153,BD!T:U,2,0),0) -> 7 | F153: =IFERROR(VLOOKUP(C153,BD!T:V,3,0),0) -> 31 | G153: =VLOOKUP(C153,[1]BIC!$B:$K,10,0) -> 1500 | H153: =IFERROR(VLOOKUP(C153,BD!T:W,4,0),0) -> 960.85 | I153: =H153/G153 -> 0.64056667 | J153: =G153-H153 -> 539.15 | K153: =J153/$C$7 -> 179.71667 | L153: =IFERROR(VLOOKUP(C153,BD!Z:AC,4,0),0) -> 0 | M153: =H153/$B$6*$C$6 -> 1120.9917 | N153: =IFERROR(M153/G153,0) -> 0.74732778
B154: 340 | C154: 8141 | D154: NOLETO E GOMES (LEILLA) | E154: =IFERROR(VLOOKUP(C154,BD!T:U,2,0),0) -> 7 | F154: =IFERROR(VLOOKUP(C154,BD!T:V,3,0),0) -> 17 | G154: =VLOOKUP(C154,[1]BIC!$B:$K,10,0) -> 1000 | H154: =IFERROR(VLOOKUP(C154,BD!T:W,4,0),0) -> 659.72 | I154: =H154/G154 -> 0.65972 | J154: =G154-H154 -> 340.28 | K154: =J154/$C$7 -> 113.42667 | L154: =IFERROR(VLOOKUP(C154,BD!Z:AC,4,0),0) -> 45.27 | M154: =H154/$B$6*$C$6 -> 769.67333 | N154: =IFERROR(M154/G154,0) -> 0.76967333
...

Sheet TOP CONTAS
B2: TOP CONTAS - BIC
G5: HISTÓRICO 3 ÚLTIMOS MESES | L5: MÊS ATUAL
G6: =SUBTOTAL(109,G8:G47) -> 565417.83 | H6: =SUBTOTAL(109,H8:H47) -> 494280.17 | I6: =SUBTOTAL(109,I8:I47) -> 916394.84 | J6: =SUBTOTAL(109,J8:J47) -> 1976092.8 | K6: =AVERAGE(G6:I6) -> 658697.61 | L6: =SUBTOTAL(109,L8:L47) -> 350833.93 | M6: =IFERROR(L6/I6-1,0) -> -0.67741825
B7: CODCLIPRINC | C7: NOME REDE | D7: GERENTE | E7: COD SV | F7: NOME SV | G7: JULHO | H7: AGOSTO | I7: SETEMBRO | J7: TOTAL | K7: MÉDIA | L7: OUTUBRO | M7: CRESC. ÚLTIMO MÊS
B8: 36530 | C8: ITATICO COM. DE ALIM | D8: CLAUDIA | E8: =IFERROR(VLOOKUP(B8,BD!AF:AG,2,0),"") -> 270 | F8: LEANDRO | G8: =IFERROR(VLOOKUP(B8,'BD ULTIMOS 3 MESES'!X:Z,3,0),0) -> 116240.16 | H8: =IFERROR(VLOOKUP(B8,'BD ULTIMOS 3 MESES'!X:AA,4,0),0) -> 173282.07 | I8: =IFERROR(VLOOKUP(B8,'BD ULTIMOS 3 MESES'!X:AB,5,0),0) -> 328373.07 | J8: =SUM(G8:I8) -> 617895.3 | K8: =AVERAGE(G8:I8) -> 205965.1 | L8: =IFERROR(VLOOKUP(B8,BD!AF:AH,3,0),0) -> 166693.78 | M8: =IFERROR(L8/I8-1,0) -> -0.49236464
B9: 65430 | C9: VRA COMERCIO LTDA | E9: =IFERROR(VLOOKUP(B9,BD!AF:AG,2,0),"") -> 180 | G9: =IFERROR(VLOOKUP(B9,'BD ULTIMOS 3 MESES'!X:Z,3,0),0) -> 13481.99 | H9: =IFERROR(VLOOKUP(B9,'BD ULTIMOS 3 MESES'!X:AA,4,0),0) -> 91851.44 | I9: =IFERROR(VLOOKUP(B9,'BD ULTIMOS 3 MESES'!X:AB,5,0),0) -> 70283.27 | J9: =SUM(G9:I9) -> 175616.7 | K9: =AVERAGE(G9:I9) -> 58538.9 | L9: =IFERROR(VLOOKUP(B9,BD!AF:AH,3,0),0) -> 59800.79 | M9: =IFERROR(L9/I9-1,0) -> -0.14914616
B10: 38058 | C10: FARIA & FERNANDES LT | D10: CLAUDIA | E10: =IFERROR(VLOOKUP(B10,BD!AF:AG,2,0),"") -> 270 | F10: LEANDRO | G10: =IFERROR(VLOOKUP(B10,'BD ULTIMOS 3 MESES'!X:Z,3,0),0) -> 18837.03 | H10: =IFERROR(VLOOKUP(B10,'BD ULTIMOS 3 MESES'!X:AA,4,0),0) -> 23189.97 | I10: =IFERROR(VLOOKUP(B10,'BD ULTIMOS 3 MESES'!X:AB,5,0),0) -> 17079.61 | J10: =SUM(G10:I10) -> 59106.61 | K10: =AVERAGE(G10:I10) -> 19702.203 | L10: =IFERROR(VLOOKUP(B10,BD!AF:AH,3,0),0) -> 21293.89 | M10: =IFERROR(L10/I10-1,0) -> 0.24674334
B11: 8353 | C11: COM. REIS LTDA | D11: CLAUDIA | E11: =IFERROR(VLOOKUP(B11,BD!AF:AG,2,0),"") -> 104 | F11: DIEGO | G11: =IFERROR(VLOOKUP(B11,'BD ULTIMOS 3 MESES'!X:Z,3,0),0) -> 13622.77 | H11: =IFERROR(VLOOKUP(B11,'BD ULTIMOS 3 MESES'!X:AA,4,0),0) -> 20904.18 | I11: =IFERROR(VLOOKUP(B11,'BD ULTIMOS 3 MESES'!X:AB,5,0),0) -> 13385.56 | J11: =SUM(G11:I11) -> 47912.51 | K11: =AVERAGE(G11:I11) -> 15970.837 | L11: =IFERROR(VLOOKUP(B11,BD!AF:AH,3,0),0) -> 17632.41 | M11: =IFERROR(L11/I11-1,0) -> 0.317271
B12: 35552 | C12: ANDATA COM. ALIM. LT | D12: FABRICIO | E12: =IFERROR(VLOOKUP(B12,BD!AF:AG,2,0),"") -> 800 | F12: MICHEL | G12: =IFERROR(VLOOKUP(B12,'BD ULTIMOS 3 MESES'!X:Z,3,0),0) -> 18343.32 | H12: =IFERROR(VLOOKUP(B12,'BD ULTIMOS 3 MESES'!X:AA,4,0),0) -> 17825.08 | I12: =IFERROR(VLOOKUP(B12,'BD ULTIMOS 3 MESES'!X:AB,5,0),0) -> 5147.29 | J12: =SUM(G12:I12) -> 41315.69 | K12: =AVERAGE(G12:I12) -> 13771.897 | L12: =IFERROR(VLOOKUP(B12,BD!AF:AH,3,0),0) -> 11869.08 | M12: =IFERROR(L12/I12-1,0) -> 1.3058891
B13: 43277 | C13: SUPERBOM SUP.LTDA. | D13: FABRICIO | E13: =IFERROR(VLOOKUP(B13,BD!AF:AG,2,0),"") -> 800 | F13: MICHEL | G13: =IFERROR(VLOOKUP(B13,'BD ULTIMOS 3 MESES'!X:Z,3,0),0) -> 6051.58 | H13: =IFERROR(VLOOKUP(B13,'BD ULTIMOS 3 MESES'!X:AA,4,0),0) -> 5520.2 | I13: =IFERROR(VLOOKUP(B13,'BD ULTIMOS 3 MESES'!X:AB,5,0),0) -> 11520.2 | J13: =SUM(G13:I13) -> 23091.98 | K13: =AVERAGE(G13:I13) -> 7697.3267 | L13: =IFERROR(VLOOKUP(B13,BD!AF:AH,3,0),0) -> 7955.14 | M13: =IFERROR(L13/I13-1,0) -> -0.30946164
B14: 108802 | C14: BON ATACADISTA DE AL | D14: CLAUDIA | E14: =IFERROR(VLOOKUP(B14,BD!AF:AG,2,0),"") -> 270 | F14: LEANDRO | G14: =IFERROR(VLOOKUP(B14,'BD ULTIMOS 3 MESES'!X:Z,3,0),0) -> 10625.57 | H14: =IFERROR(VLOOKUP(B14,'BD ULTIMOS 3 MESES'!X:AA,4,0),0) -> 6493.26 | I14: =IFERROR(VLOOKUP(B14,'BD ULTIMOS 3 MESES'!X:AB,5,0),0) -> 0 | J14: =SUM(G14:I14) -> 17118.83 | K14: =AVERAGE(G14:I14) -> 5706.2767 | L14: =IFERROR(VLOOKUP(B14,BD!AF:AH,3,0),0) -> 7740.47 | M14: =IFERROR(L14/I14-1,0) -> 0
B15: 61205 | C15: RM E CIA LTDA | D15: CLAUDIA | E15: =IFERROR(VLOOKUP(B15,BD!AF:AG,2,0),"") -> 250 | F15: WESKLEY | G15: =IFERROR(VLOOKUP(B15,'BD ULTIMOS 3 MESES'!X:Z,3,0),0) -> 8978.57 | H15: =IFERROR(VLOOKUP(B15,'BD ULTIMOS 3 MESES'!X:AA,4,0),0) -> 9947.59 | I15: =IFERROR(VLOOKUP(B15,'BD ULTIMOS 3 MESES'!X:AB,5,0),0) -> 9777.07 | J15: =SUM(G15:I15) -> 28703.23 | K15: =AVERAGE(G15:I15) -> 9567.7433 | L15: =IFERROR(VLOOKUP(B15,BD!AF:AH,3,0),0) -> 6960.01 | M15: =IFERROR(L15/I15-1,0) -> -0.28812927
B16: 44320 | C16: RHEIDNER MORAES TOST | E16: =IFERROR(VLOOKUP(B16,BD!AF:AG,2,0),"") -> 250 | G16: 4 | H16: =IFERROR(VLOOKUP(B16,'BD ULTIMOS 3 MESES'!X:AA,4,0),0) -> 12351.94 | I16: =IFERROR(VLOOKUP(B16,'BD ULTIMOS 3 MESES'!X:AB,5,0),0) -> 6402.12 | J16: =SUM(G16:I16) -> 18758.06 | K16: =AVERAGE(G16:I16) -> 6252.6867 | L16: =IFERROR(VLOOKUP(B16,BD!AF:AH,3,0),0) -> 6859.06 | M16: =IFERROR(L16/I16-1,0) -> 0.071373233
B17: 40430 | C17: QUARTETTO SUPERMERCA | E17: =IFERROR(VLOOKUP(B17,BD!AF:AG,2,0),"") -> 300 | G17: =IFERROR(VLOOKUP(B17,'BD ULTIMOS 3 MESES'!X:Z,3,0),0) -> 4158.4 | H17: =IFERROR(VLOOKUP(B17,'BD ULTIMOS 3 MESES'!X:AA,4,0),0) -> 4001.17 | I17: =IFERROR(VLOOKUP(B17,'BD ULTIMOS 3 MESES'!X:AB,5,0),0) -> 0 | J17: =SUM(G17:I17) -> 8159.57 | K17: =AVERAGE(G17:I17) -> 2719.8567 | L17: =IFERROR(VLOOKUP(B17,BD!AF:AH,3,0),0) -> 6561.4 | M17: =IFERROR(L17/I17-1,0) -> 0
B18: 49469 | C18: POLEN ALIMENTOS LTDA | E18: =IFERROR(VLOOKUP(B18,BD!AF:AG,2,0),"") -> 800 | G18: =IFERROR(VLOOKUP(B18,'BD ULTIMOS 3 MESES'!X:Z,3,0),0) -> 6555.12 | H18: =IFERROR(VLOOKUP(B18,'BD ULTIMOS 3 MESES'!X:AA,4,0),0) -> 9782.87 | I18: =IFERROR(VLOOKUP(B18,'BD ULTIMOS 3 MESES'!X:AB,5,0),0) -> 2797.53 | J18: =SUM(G18:I18) -> 19135.52 | K18: =AVERAGE(G18:I18) -> 6378.5067 | L18: =IFERROR(VLOOKUP(B18,BD!AF:AH,3,0),0) -> 7191.69 | M18: =IFERROR(L18/I18-1,0) -> 1.5707285
B19: 44781 | C19: ST COM.DE SECOS E MO | D19: CLAUDIA | E19: =IFERROR(VLOOKUP(B19,BD!AF:AG,2,0),"") -> 270 | F19: LEANDRO | G19: =IFERROR(VLOOKUP(B19,'BD ULTIMOS 3 MESES'!X:Z,3,0),0) -> 4964.16 | H19: =IFERROR(VLOOKUP(B19,'BD ULTIMOS 3 MESES'!X:AA,4,0),0) -> 20485.18 | I19: =IFERROR(VLOOKUP(B19,'BD ULTIMOS 3 MESES'!X:AB,5,0),0) -> 6398.53 | J19: =SUM(G19:I19) -> 31847.87 | K19: =AVERAGE(G19:I19) -> 10615.957 | L19: =IFERROR(VLOOKUP(B19,BD!AF:AH,3,0),0) -> 5451.02 | M19: =IFERROR(L19/I19-1,0) -> -0.14808245
B20: 88517 | C20: PIVOT COM DE ALIM S | D20: FABRICIO | E20: =IFERROR(VLOOKUP(B20,BD!AF:AG,2,0),"") -> 800 | F20: MICHEL | G20: =IFERROR(VLOOKUP(B20,'BD ULTIMOS 3 MESES'!X:Z,3,0),0) -> 5719.31 | H20: =IFERROR(VLOOKUP(B20,'BD ULTIMOS 3 MESES'!X:AA,4,0),0) -> 7844.6 | I20: =IFERROR(VLOOKUP(B20,'BD ULTIMOS 3 MESES'!X:AB,5,0),0) -> 3813.72 | J20: =SUM(G20:I20) -> 17377.63 | K20: =AVERAGE(G20:I20) -> 5792.5433 | L20: =IFERROR(VLOOKUP(B20,BD!AF:AH,3,0),0) -> 3408.36 | M20: =IFERROR(L20/I20-1,0) -> -0.10628992
B21: 10393 | C21: SUP. 007 LTDA | D21: CLAUDIA | E21: =IFERROR(VLOOKUP(B21,BD!AF:AG,2,0),"") -> 4980 | F21: BRUNA | G21: =IFERROR(VLOOKUP(B21,'BD ULTIMOS 3 MESES'!X:Z,3,0),0) -> 3671.66 | H21: =IFERROR(VLOOKUP(B21,'BD ULTIMOS 3 MESES'!X:AA,4,0),0) -> 3243.97 | I21: =IFERROR(VLOOKUP(B21,'BD ULTIMOS 3 MESES'!X:AB,5,0),0) -> 7318.83 | J21: =SUM(G21:I21) -> 14234.46 | K21: =AVERAGE(G21:I21) -> 4744.82 | L21: =IFERROR(VLOOKUP(B21,BD!AF:AH,3,0),0) -> 2753.82 | M21: =IFERROR(L21/I21-1,0) -> -0.62373494
B22: 42473 | C22: DROGABRUNA COM. DE P | D22: CLAUDIA | E22: =IFERROR(VLOOKUP(B22,BD!AF:AG,2,0),"") -> 320 | F22: MUNIQUE | G22: =IFERROR(VLOOKUP(B22,'BD ULTIMOS 3 MESES'!X:Z,3,0),0) -> 4356.33 | H22: =IFERROR(VLOOKUP(B22,'BD ULTIMOS 3 MESES'!X:AA,4,0),0) -> 6164.15 | I22: =IFERROR(VLOOKUP(B22,'BD ULTIMOS 3 MESES'!X:AB,5,0),0) -> 8003.62 | J22: =SUM(G22:I22) -> 18524.1 | K22: =AVERAGE(G22:I22) -> 6174.7 | L22: =IFERROR(VLOOKUP(B22,BD!AF:AH,3,0),0) -> 2546.7 | M22: =IFERROR(L22/I22-1,0) -> -0.68180648
B23: 96938 | C23: SOL NASCENTE ATACADO | E23: =IFERROR(VLOOKUP(B23,BD!AF:AG,2,0),"") -> 290 | G23: =IFERROR(VLOOKUP(B23,'BD ULTIMOS 3 MESES'!X:Z,3,0),0) -> 32412.92 | H23: =IFERROR(VLOOKUP(B23,'BD ULTIMOS 3 MESES'!X:AA,4,0),0) -> 1862.28 | I23: =IFERROR(VLOOKUP(B23,'BD ULTIMOS 3 MESES'!X:AB,5,0),0) -> 329.04 | J23: =SUM(G23:I23) -> 34604.24 | K23: =AVERAGE(G23:I23) -> 11534.747 | L23: =IFERROR(VLOOKUP(B23,BD!AF:AH,3,0),0) -> 1799.97 | M23: =IFERROR(L23/I23-1,0) -> 4.4703683
B24: 35402 | C24: SUPERMESA MERCADO LT | E24: =IFERROR(VLOOKUP(B24,BD!AF:AG,2,0),"") -> 290 | G24: =IFERROR(VLOOKUP(B24,'BD ULTIMOS 3 MESES'!X:Z,3,0),0) -> 0 | H24: =IFERROR(VLOOKUP(B24,'BD ULTIMOS 3 MESES'!X:AA,4,0),0) -> 28732.04 | I24: =IFERROR(VLOOKUP(B24,'BD ULTIMOS 3 MESES'!X:AB,5,0),0) -> 0 | J24: =SUM(G24:I24) -> 28732.04 | K24: =AVERAGE(G24:I24) -> 9577.3467 | L24: =IFERROR(VLOOKUP(B24,BD!AF:AH,3,0),0) -> 14254.48 | M24: =IFERROR(L24/I24-1,0) -> 0
B25: 35141 | C25: DEVAIR JOSE DA SILVA | D25: CLAUDIA | E25: =IFERROR(VLOOKUP(B25,BD!AF:AG,2,0),"") -> 270 | F25: LEANDRO | G25: =IFERROR(VLOOKUP(B25,'BD ULTIMOS 3 MESES'!X:Z,3,0),0) -> 737.15 | H25: =IFERROR(VLOOKUP(B25,'BD ULTIMOS 3 MESES'!X:AA,4,0),0) -> 665.31 | I25: =IFERROR(VLOOKUP(B25,'BD ULTIMOS 3 MESES'!X:AB,5,0),0) -> 54812.78 | J25: =SUM(G25:I25) -> 56215.24 | K25: =AVERAGE(G25:I25) -> 18738.413 | L25: =IFERROR(VLOOKUP(B25,BD!AF:AH,3,0),0) -> 61.86 | M25: =IFERROR(L25/I25-1,0) -> -0.99887143
B26: 33050 | C26: FLORIVALDO MARTINS | E26: =IFERROR(VLOOKUP(B26,BD!AF:AG,2,0),"") | G26: =IFERROR(VLOOKUP(B26,'BD ULTIMOS 3 MESES'!X:Z,3,0),0) -> 0 | H26: =IFERROR(VLOOKUP(B26,'BD ULTIMOS 3 MESES'!X:AA,4,0),0) -> 0 | I26: =IFERROR(VLOOKUP(B26,'BD ULTIMOS 3 MESES'!X:AB,5,0),0) -> 188522.28 | J26: =SUM(G26:I26) -> 188522.28 | K26: =AVERAGE(G26:I26) -> 62840.76 | L26: =IFERROR(VLOOKUP(B26,BD!AF:AH,3,0),0) -> 0 | M26: =IFERROR(L26/I26-1,0) -> -1
B27: 82066 | C27: ABV COMERCIO DE ALIM | D27: FABRICIO | E27: =IFERROR(VLOOKUP(B27,BD!AF:AG,2,0),"") | F27: FERNANDO | G27: =IFERROR(VLOOKUP(B27,'BD ULTIMOS 3 MESES'!X:Z,3,0),0) -> 0 | H27: =IFERROR(VLOOKUP(B27,'BD ULTIMOS 3 MESES'!X:AA,4,0),0) -> 0 | I27: =IFERROR(VLOOKUP(B27,'BD ULTIMOS 3 MESES'!X:AB,5,0),0) -> 63310.32 | J27: =SUM(G27:I27) -> 63310.32 | K27: =AVERAGE(G27:I27) -> 21103.44 | L27: =IFERROR(VLOOKUP(B27,BD!AF:AH,3,0),0) -> 0 | M27: =IFERROR(L27/I27-1,0) -> -1
B28: 50186 | C28: FALCAO SUPERMERCADOS | E28: =IFERROR(VLOOKUP(B28,BD!AF:AG,2,0),"") | G28: =IFERROR(VLOOKUP(B28,'BD ULTIMOS 3 MESES'!X:Z,3,0),0) -> 13017.21 | H28: =IFERROR(VLOOKUP(B28,'BD ULTIMOS 3 MESES'!X:AA,4,0),0) -> 0 | I28: =IFERROR(VLOOKUP(B28,'BD ULTIMOS 3 MESES'!X:AB,5,0),0) -> 47984.54 | J28: =SUM(G28:I28) -> 61001.75 | K28: =AVERAGE(G28:I28) -> 20333.917 | L28: =IFERROR(VLOOKUP(B28,BD!AF:AH,3,0),0) -> 0 | M28: =IFERROR(L28/I28-1,0) -> -1
B29: 31889 | C29: L.S.GUARATO LTDA | E29: =IFERROR(VLOOKUP(B29,BD!AF:AG,2,0),"") | G29: =IFERROR(VLOOKUP(B29,'BD ULTIMOS 3 MESES'!X:Z,3,0),0) -> 25089.18 | H29: =IFERROR(VLOOKUP(B29,'BD ULTIMOS 3 MESES'!X:AA,4,0),0) -> 0 | I29: =IFERROR(VLOOKUP(B29,'BD ULTIMOS 3 MESES'!X:AB,5,0),0) -> 21600.66 | J29: =SUM(G29:I29) -> 46689.84 | K29: =AVERAGE(G29:I29) -> 15563.28 | L29: =IFERROR(VLOOKUP(B29,BD!AF:AH,3,0),0) -> 0 | M29: =IFERROR(L29/I29-1,0) -> -1
